![]() | Name | Last modified | Size | Description |
---|---|---|---|---|
![]() | Parent Directory | - | ||
![]() | buildbin-out.txt | 22-Sep-2023 00:39 | 1.2K | |
![]() | buildbin-summary.dcf | 22-Sep-2023 00:39 | 590 | |
![]() | buildsrc-out.txt | 22-Sep-2023 00:39 | 856 | |
![]() | buildsrc-summary.dcf | 22-Sep-2023 00:39 | 457 | |
![]() | checksrc-out.txt | 22-Sep-2023 00:39 | 4.4K | |
![]() | checksrc-summary.dcf | 22-Sep-2023 00:39 | 484 | |
![]() | install-out.txt | 22-Sep-2023 00:39 | 1.0K | |
![]() | install-summary.dcf | 22-Sep-2023 00:39 | 289 | |