Name | Last modified | Size | Description | |
---|---|---|---|---|
Parent Directory | - | |||
install-summary.dcf | 16-May-2024 02:46 | 270 | ||
install-out.txt | 16-May-2024 02:46 | 1.0K | ||
checksrc-summary.dcf | 16-May-2024 02:46 | 450 | ||
checksrc-out.txt | 16-May-2024 02:46 | 4.7K | ||
buildsrc-summary.dcf | 16-May-2024 02:46 | 428 | ||
buildsrc-out.txt | 16-May-2024 02:46 | 1.0K | ||