The requested URL /checkResults/devel/bioc-LATEST/LRcell/riesling1-checksrc.html was not found on this server.