![]() | Name | Last modified | Size | Description |
---|---|---|---|---|
![]() | Parent Directory | - | ||
![]() | buildsrc-out.txt | 30-Sep-2023 01:02 | 864 | |
![]() | buildsrc-summary.dcf | 30-Sep-2023 01:02 | 412 | |
![]() | checksrc-out.txt | 30-Sep-2023 01:02 | 3.5K | |
![]() | checksrc-summary.dcf | 30-Sep-2023 01:02 | 408 | |
![]() | install-out.txt | 30-Sep-2023 01:02 | 949 | |
![]() | install-summary.dcf | 30-Sep-2023 01:02 | 256 | |