![]() | Name | Last modified | Size | Description |
---|---|---|---|---|
![]() | Parent Directory | - | ||
![]() | install-summary.dcf | 02-Dec-2023 01:39 | 266 | |
![]() | install-out.txt | 02-Dec-2023 01:39 | 967 | |
![]() | checksrc-summary.dcf | 01-Dec-2023 01:39 | 443 | |
![]() | checksrc-out.txt | 01-Dec-2023 01:39 | 3.6K | |
![]() | buildsrc-summary.dcf | 02-Dec-2023 01:39 | 347 | |
![]() | buildsrc-out.txt | 02-Dec-2023 01:39 | 649 | |