![]() | Name | Last modified | Size | Description |
---|---|---|---|---|
![]() | Parent Directory | - | ||
![]() | buildsrc-out.txt | 03-Oct-2023 00:40 | 858 | |
![]() | buildsrc-summary.dcf | 03-Oct-2023 00:40 | 405 | |
![]() | checksrc-out.txt | 03-Oct-2023 00:40 | 3.5K | |
![]() | checksrc-summary.dcf | 03-Oct-2023 00:40 | 396 | |
![]() | install-out.txt | 03-Oct-2023 00:40 | 937 | |
![]() | install-summary.dcf | 03-Oct-2023 00:40 | 250 | |