Name | Last modified | Size | Description | |
---|---|---|---|---|
Parent Directory | - | |||
buildsrc-out.txt | 18-Jul-2024 00:38 | 877 | ||
buildsrc-summary.dcf | 18-Jul-2024 00:38 | 410 | ||
checksrc-out.txt | 18-Jul-2024 00:38 | 3.3K | ||
checksrc-summary.dcf | 18-Jul-2024 00:38 | 397 | ||
install-out.txt | 18-Jul-2024 00:38 | 940 | ||
install-summary.dcf | 18-Jul-2024 00:38 | 250 | ||