Back to Multiple platform build/check report for BioC 3.14
ABCDEFGHIJ[K]LMNOPQRSTUVWXYZ

This page was generated on 2021-10-22 12:04:31 -0400 (Fri, 22 Oct 2021).

INSTALL results for KnowSeq on riesling1

To the developers/maintainers of the KnowSeq package:
- Please allow up to 24 hours (and sometimes 48 hours) for your latest push to git@git.bioconductor.org:packages/KnowSeq.git to
reflect on this report. See How and When does the builder pull? When will my changes propagate? here for more information.
- Make sure to use the following settings in order to reproduce any error or warning you see on this page.

raw results

Package 982/2075HostnameOS / ArchINSTALLBUILDCHECKBUILD BIN
KnowSeq 1.7.3  (landing page)
Daniel Castillo-Secilla
Snapshot Date: 2021-10-21 14:50:08 -0400 (Thu, 21 Oct 2021)
git_url: https://git.bioconductor.org/packages/KnowSeq
git_branch: master
git_last_commit: 6fcdd68
git_last_commit_date: 2021-10-09 08:02:34 -0400 (Sat, 09 Oct 2021)
nebbiolo2Linux (Ubuntu 20.04.2 LTS) / x86_64  OK    OK    OK  UNNEEDED, same version is already published
riesling1Windows Server 2019 Standard / x64  OK    OK    OK    OK  UNNEEDED, same version is already published
merida1macOS 10.14.6 Mojave / x86_64  OK    OK    OK    NA  

Summary

Package: KnowSeq
Version: 1.7.3
Command: C:\cygwin\bin\curl.exe -O http://155.52.207.166/BBS/3.14/bioc/src/contrib/KnowSeq_1.7.3.tar.gz && rm -rf KnowSeq.buildbin-libdir && mkdir KnowSeq.buildbin-libdir && D:\biocbuild\bbs-3.14-bioc\R\bin\R.exe CMD INSTALL --merge-multiarch --build --library=KnowSeq.buildbin-libdir KnowSeq_1.7.3.tar.gz && D:\biocbuild\bbs-3.14-bioc\R\bin\R.exe CMD INSTALL KnowSeq_1.7.3.zip && rm KnowSeq_1.7.3.tar.gz KnowSeq_1.7.3.zip
StartedAt: 2021-10-21 19:17:34 -0400 (Thu, 21 Oct 2021)
EndedAt: 2021-10-21 19:20:24 -0400 (Thu, 21 Oct 2021)
EllapsedTime: 170.1 seconds
RetCode: 0
Status:   OK  

Command output

##############################################################################
##############################################################################
###
### Running command:
###
###   C:\cygwin\bin\curl.exe -O http://155.52.207.166/BBS/3.14/bioc/src/contrib/KnowSeq_1.7.3.tar.gz && rm -rf KnowSeq.buildbin-libdir && mkdir KnowSeq.buildbin-libdir && D:\biocbuild\bbs-3.14-bioc\R\bin\R.exe CMD INSTALL --merge-multiarch --build --library=KnowSeq.buildbin-libdir KnowSeq_1.7.3.tar.gz && D:\biocbuild\bbs-3.14-bioc\R\bin\R.exe CMD INSTALL KnowSeq_1.7.3.zip && rm KnowSeq_1.7.3.tar.gz KnowSeq_1.7.3.zip
###
##############################################################################
##############################################################################


  % Total    % Received % Xferd  Average Speed   Time    Time     Time  Current
                                 Dload  Upload   Total   Spent    Left  Speed

  0     0    0     0    0     0      0      0 --:--:-- --:--:-- --:--:--     0
 40 4195k   40 1679k    0     0  1825k      0  0:00:02 --:--:--  0:00:02 1823k
100 4195k  100 4195k    0     0  2351k      0  0:00:01  0:00:01 --:--:-- 2353k

install for i386

* installing *source* package 'KnowSeq' ...
** using staged installation
** R
** inst
** byte-compile and prepare package for lazy loading
** help
*** installing help indices
  converting help for package 'KnowSeq'
    finding HTML links ... done
    DEGsEvidences                           html  
    DEGsExtraction                          html  
    DEGsToDiseases                          html  
    DEGsToPathways                          html  
    RNAseqQA                                html  
    batchEffectRemoval                      html  
    calculateGeneExpressionValues           html  
    countsToMatrix                          html  
    dataPlot                                html  
    downloadPublicSeries                    html  
    featureSelection                        html  
    fileMove                                html  
    gdcClientDownload                       html  
    geneOntologyEnrichment                  html  
    getGenesAnnotation                      html  
    hisatAlignment                          html  
    knn_test                                html  
    knn_trn                                 html  
    knowseqReport                           html  
    plotConfMatrix                          html  
    rawAlignment                            html  
    rf_test                                 html  
    rf_trn                                  html  
    sraToFastq                              html  
    svm_test                                html  
    svm_trn                                 html  
** building package indices
** installing vignettes
** testing if installed package can be loaded from temporary location
** testing if installed package can be loaded from final location
** testing if installed package keeps a record of temporary installation path

install for x64

* installing *source* package 'KnowSeq' ...
** testing if installed package can be loaded
* MD5 sums
packaged installation of 'KnowSeq' as KnowSeq_1.7.3.zip
* DONE (KnowSeq)
* installing to library 'D:/biocbuild/bbs-3.14-bioc/R/library'
package 'KnowSeq' successfully unpacked and MD5 sums checked