Back to Multiple platform build/check report for BioC 3.14
ABCDEFGHIJ[K]LMNOPQRSTUVWXYZ

This page was generated on 2021-10-22 12:05:01 -0400 (Fri, 22 Oct 2021).

BUILD results for KnowSeq on merida1

To the developers/maintainers of the KnowSeq package:
- Please allow up to 24 hours (and sometimes 48 hours) for your latest push to git@git.bioconductor.org:packages/KnowSeq.git to
reflect on this report. See How and When does the builder pull? When will my changes propagate? here for more information.
- Make sure to use the following settings in order to reproduce any error or warning you see on this page.

raw results

Package 982/2075HostnameOS / ArchINSTALLBUILDCHECKBUILD BIN
KnowSeq 1.7.3  (landing page)
Daniel Castillo-Secilla
Snapshot Date: 2021-10-21 14:50:08 -0400 (Thu, 21 Oct 2021)
git_url: https://git.bioconductor.org/packages/KnowSeq
git_branch: master
git_last_commit: 6fcdd68
git_last_commit_date: 2021-10-09 08:02:34 -0400 (Sat, 09 Oct 2021)
nebbiolo2Linux (Ubuntu 20.04.2 LTS) / x86_64  OK    OK    OK  UNNEEDED, same version is already published
riesling1Windows Server 2019 Standard / x64  OK    OK    OK    OK  UNNEEDED, same version is already published
merida1macOS 10.14.6 Mojave / x86_64  OK    OK    OK    NA  

Summary

Package: KnowSeq
Version: 1.7.3
Command: /Library/Frameworks/R.framework/Resources/bin/R CMD build --keep-empty-dirs --no-resave-data KnowSeq
StartedAt: 2021-10-21 20:55:03 -0400 (Thu, 21 Oct 2021)
EndedAt: 2021-10-21 20:59:55 -0400 (Thu, 21 Oct 2021)
EllapsedTime: 291.3 seconds
RetCode: 0
Status:   OK  
PackageFile: KnowSeq_1.7.3.tar.gz
PackageFileSize: 7.811 MiB

Command output

##############################################################################
##############################################################################
###
### Running command:
###
###   /Library/Frameworks/R.framework/Resources/bin/R CMD build --keep-empty-dirs --no-resave-data KnowSeq
###
##############################################################################
##############################################################################


* checking for file ‘KnowSeq/DESCRIPTION’ ... OK
* preparing ‘KnowSeq’:
* checking DESCRIPTION meta-information ... OK
* installing the package to build vignettes
* creating vignettes ... OK
* checking for LF line-endings in source and make files and shell scripts
* checking for empty or unneeded directories
Omitted ‘LazyData’ from DESCRIPTION
* building ‘KnowSeq_1.7.3.tar.gz’