Back to Multiple platform build/check report for BioC 3.15
ABCDEFGHIJ[K]LMNOPQRSTUVWXYZ

This page was generated on 2022-01-18 11:07:36 -0500 (Tue, 18 Jan 2022).

HostnameOSArch (*)R versionInstalled pkgs
nebbiolo1Linux (Ubuntu 20.04.4 LTS)x86_64R Under development (unstable) (2022-01-05 r81451) -- "Unsuffered Consequences" 4161
riesling1Windows Server 2019 Standardx64R Under development (unstable) (2021-11-21 r81221) -- "Unsuffered Consequences" 4056
palomino3Windows Server 2022 Datacenterx64R Under development (unstable) (2021-12-21 r81400 ucrt) -- "Unsuffered Consequences" 3998
merida1macOS 10.14.6 Mojavex86_64R Under development (unstable) (2022-01-05 r81451) -- "Unsuffered Consequences" 4115
Click on any hostname to see more info about the system (e.g. compilers)      (*) as reported by 'uname -p', except on Windows and Mac OS X

INSTALL results for KEGGlincs on riesling1


To the developers/maintainers of the KEGGlincs package:
- Please allow up to 24 hours (and sometimes 48 hours) for your latest push to git@git.bioconductor.org:packages/KEGGlincs.git to
reflect on this report. See How and When does the builder pull? When will my changes propagate? here for more information.
- Make sure to use the following settings in order to reproduce any error or warning you see on this page.

raw results

Package 978/2074HostnameOS / ArchINSTALLBUILDCHECKBUILD BIN
KEGGlincs 1.21.0  (landing page)
Shana White , Mario Medvedovic
Snapshot Date: 2022-01-17 13:55:17 -0500 (Mon, 17 Jan 2022)
git_url: https://git.bioconductor.org/packages/KEGGlincs
git_branch: master
git_last_commit: cf1a185
git_last_commit_date: 2021-10-26 12:30:32 -0500 (Tue, 26 Oct 2021)
nebbiolo1Linux (Ubuntu 20.04.4 LTS) / x86_64  OK    OK    OK  UNNEEDED, same version is already published
riesling1Windows Server 2019 Standard / x64  OK    OK    OK    OK  
palomino3Windows Server 2022 Datacenter / x64  OK    OK    OK    OK  NO, package depends on 'AnnotationDbi' which is not available
merida1macOS 10.14.6 Mojave / x86_64  OK    OK    OK    OK  UNNEEDED, same version is already published

Summary

Package: KEGGlincs
Version: 1.21.0
Command: D:\biocbuild\bbs-3.15-bioc\R\bin\R.exe CMD INSTALL KEGGlincs
StartedAt: 2022-01-17 15:47:14 -0500 (Mon, 17 Jan 2022)
EndedAt: 2022-01-17 15:48:06 -0500 (Mon, 17 Jan 2022)
EllapsedTime: 52.3 seconds
RetCode: 0
Status:   OK  

Command output

##############################################################################
##############################################################################
###
### Running command:
###
###   D:\biocbuild\bbs-3.15-bioc\R\bin\R.exe CMD INSTALL KEGGlincs
###
##############################################################################
##############################################################################


* installing to library 'D:/biocbuild/bbs-3.15-bioc/R/library'
* installing *source* package 'KEGGlincs' ...
** using staged installation
** R
** inst
** byte-compile and prepare package for lazy loading
** help
*** installing help indices
  converting help for package 'KEGGlincs'
    finding HTML links ... done
    KEGG_lincs                              html  
    KEGGlincs                               html  
    KL_compare                              html  
    add_edge_data                           html  
    cyto_vis                                html  
    edge_mapping_info                       html  
    expand_KEGG_edges                       html  
    expand_KEGG_mappings                    html  
    generate_mappings                       html  
    get_KGML                                html  
    get_fisher_info                         html  
    get_graph_object                        html  
    keggerize_edges                         html  
    node_mapping_info                       html  
    overlap_info                            html  
    path_genes_by_cell_type                 html  
    refine_mappings                         html  
    tidy_edge                               html  
    toCytoscape                             html  
** building package indices
** installing vignettes
** testing if installed package can be loaded from temporary location
** testing if installed package can be loaded from final location
** testing if installed package keeps a record of temporary installation path
* DONE (KEGGlincs)
Making 'packages.html' ... done