Back to Multiple platform build/check report for BioC 3.17: simplified long |
|
This page was generated on 2023-03-22 11:05:14 -0400 (Wed, 22 Mar 2023).
Hostname | OS | Arch (*) | R version | Installed pkgs |
---|---|---|---|---|
nebbiolo1 | Linux (Ubuntu 22.04.1 LTS) | x86_64 | R Under development (unstable) (2023-03-16 r83996) -- "Unsuffered Consequences" | 4508 |
palomino3 | Windows Server 2022 Datacenter | x64 | R Under development (unstable) (2023-03-15 r83984 ucrt) -- "Unsuffered Consequences" | 4293 |
merida1 | macOS 10.14.6 Mojave | x86_64 | R Under development (unstable) (2023-03-16 r83985) -- "Unsuffered Consequences" | 4290 |
Click on any hostname to see more info about the system (e.g. compilers) (*) as reported by 'uname -p', except on Windows and Mac OS X |
To the developers/maintainers of the KEGGlincs package: - Please allow up to 24 hours (and sometimes 48 hours) for your latest push to git@git.bioconductor.org:packages/KEGGlincs.git to reflect on this report. See How and When does the builder pull? When will my changes propagate? for more information. - Make sure to use the following settings in order to reproduce any error or warning you see on this page. |
Package 1030/2189 | Hostname | OS / Arch | INSTALL | BUILD | CHECK | BUILD BIN | ||||||||
KEGGlincs 1.25.0 (landing page) Shana White
| nebbiolo1 | Linux (Ubuntu 22.04.1 LTS) / x86_64 | OK | OK | OK | ![]() | ||||||||
palomino3 | Windows Server 2022 Datacenter / x64 | OK | OK | OK | OK | ![]() | ||||||||
merida1 | macOS 10.14.6 Mojave / x86_64 | OK | OK | OK | OK | ![]() | ||||||||
Package: KEGGlincs |
Version: 1.25.0 |
Command: /home/biocbuild/bbs-3.17-bioc/R/bin/R CMD check --install=check:KEGGlincs.install-out.txt --library=/home/biocbuild/bbs-3.17-bioc/R/site-library --timings KEGGlincs_1.25.0.tar.gz |
StartedAt: 2023-03-21 21:23:41 -0400 (Tue, 21 Mar 2023) |
EndedAt: 2023-03-21 21:27:57 -0400 (Tue, 21 Mar 2023) |
EllapsedTime: 255.4 seconds |
RetCode: 0 |
Status: OK |
CheckDir: KEGGlincs.Rcheck |
Warnings: 0 |
############################################################################## ############################################################################## ### ### Running command: ### ### /home/biocbuild/bbs-3.17-bioc/R/bin/R CMD check --install=check:KEGGlincs.install-out.txt --library=/home/biocbuild/bbs-3.17-bioc/R/site-library --timings KEGGlincs_1.25.0.tar.gz ### ############################################################################## ############################################################################## * using log directory ‘/home/biocbuild/bbs-3.17-bioc/meat/KEGGlincs.Rcheck’ * using R Under development (unstable) (2023-03-16 r83996) * using platform: x86_64-pc-linux-gnu (64-bit) * R was compiled by gcc (Ubuntu 11.3.0-1ubuntu1~22.04) 11.3.0 GNU Fortran (Ubuntu 11.3.0-1ubuntu1~22.04) 11.3.0 * running under: Ubuntu 22.04.2 LTS * using session charset: UTF-8 * checking for file ‘KEGGlincs/DESCRIPTION’ ... OK * checking extension type ... Package * this is package ‘KEGGlincs’ version ‘1.25.0’ * checking package namespace information ... OK * checking package dependencies ... OK * checking if this is a source package ... OK * checking if there is a namespace ... OK * checking for hidden files and directories ... OK * checking for portable file names ... OK * checking for sufficient/correct file permissions ... OK * checking whether package ‘KEGGlincs’ can be installed ... OK * checking installed package size ... OK * checking package directory ... OK * checking ‘build’ directory ... OK * checking DESCRIPTION meta-information ... OK * checking top-level files ... OK * checking for left-over files ... OK * checking index information ... OK * checking package subdirectories ... OK * checking R files for non-ASCII characters ... OK * checking R files for syntax errors ... OK * checking whether the package can be loaded ... OK * checking whether the package can be loaded with stated dependencies ... OK * checking whether the package can be unloaded cleanly ... OK * checking whether the namespace can be loaded with stated dependencies ... OK * checking whether the namespace can be unloaded cleanly ... OK * checking loading without being on the library search path ... OK * checking dependencies in R code ... NOTE Namespace in Imports field not imported from: ‘XML’ All declared Imports should be used. * checking S3 generic/method consistency ... OK * checking replacement functions ... OK * checking foreign function calls ... OK * checking R code for possible problems ... OK * checking Rd files ... OK * checking Rd metadata ... OK * checking Rd cross-references ... OK * checking for missing documentation entries ... OK * checking for code/documentation mismatches ... OK * checking Rd \usage sections ... OK * checking Rd contents ... OK * checking for unstated dependencies in examples ... OK * checking files in ‘vignettes’ ... OK * checking examples ... OK Examples with CPU (user + system) or elapsed time > 5s user system elapsed overlap_info 20.837 0.940 21.981 add_edge_data 18.136 1.136 20.358 path_genes_by_cell_type 13.138 0.600 14.817 edge_mapping_info 12.908 0.556 14.014 refine_mappings 12.153 0.335 13.042 get_graph_object 10.416 0.312 11.101 * checking for unstated dependencies in vignettes ... OK * checking package vignettes in ‘inst/doc’ ... OK * checking running R code from vignettes ... ‘Example-workflow.Rmd’ using ‘UTF-8’... OK NONE * checking re-building of vignette outputs ... OK * checking PDF version of manual ... OK * DONE Status: 1 NOTE See ‘/home/biocbuild/bbs-3.17-bioc/meat/KEGGlincs.Rcheck/00check.log’ for details.
KEGGlincs.Rcheck/00install.out
############################################################################## ############################################################################## ### ### Running command: ### ### /home/biocbuild/bbs-3.17-bioc/R/bin/R CMD INSTALL KEGGlincs ### ############################################################################## ############################################################################## * installing to library ‘/home/biocbuild/bbs-3.17-bioc/R/site-library’ * installing *source* package ‘KEGGlincs’ ... ** using staged installation ** R ** inst ** byte-compile and prepare package for lazy loading ** help *** installing help indices ** building package indices ** installing vignettes ** testing if installed package can be loaded from temporary location ** testing if installed package can be loaded from final location ** testing if installed package keeps a record of temporary installation path * DONE (KEGGlincs)
KEGGlincs.Rcheck/KEGGlincs-Ex.timings
name | user | system | elapsed | |
KEGG_lincs | 0 | 0 | 0 | |
KL_compare | 0.000 | 0.000 | 0.001 | |
add_edge_data | 18.136 | 1.136 | 20.358 | |
cyto_vis | 0.286 | 0.012 | 0.845 | |
edge_mapping_info | 12.908 | 0.556 | 14.014 | |
expand_KEGG_edges | 0.170 | 0.004 | 0.718 | |
expand_KEGG_mappings | 0.104 | 0.000 | 0.658 | |
generate_mappings | 0.001 | 0.000 | 0.000 | |
get_KGML | 0.248 | 0.032 | 1.571 | |
get_fisher_info | 0.004 | 0.000 | 0.003 | |
get_graph_object | 10.416 | 0.312 | 11.101 | |
keggerize_edges | 0.001 | 0.000 | 0.001 | |
node_mapping_info | 0.105 | 0.008 | 0.488 | |
overlap_info | 20.837 | 0.940 | 21.981 | |
path_genes_by_cell_type | 13.138 | 0.600 | 14.817 | |
refine_mappings | 12.153 | 0.335 | 13.042 | |
tidy_edge | 0 | 0 | 0 | |