Back to Multiple platform build/check report for BioC 3.15
ABCDEFGHIJ[K]LMNOPQRSTUVWXYZ

This page was generated on 2022-01-21 11:11:37 -0500 (Fri, 21 Jan 2022).

HostnameOSArch (*)R versionInstalled pkgs
nebbiolo1Linux (Ubuntu 20.04.4 LTS)x86_64R Under development (unstable) (2022-01-05 r81451) -- "Unsuffered Consequences" 4163
riesling1Windows Server 2019 Standardx64R Under development (unstable) (2021-11-21 r81221) -- "Unsuffered Consequences" 4058
palomino3Windows Server 2022 Datacenterx64R Under development (unstable) (2021-12-21 r81400 ucrt) -- "Unsuffered Consequences" 4000
merida1macOS 10.14.6 Mojavex86_64R Under development (unstable) (2022-01-05 r81451) -- "Unsuffered Consequences" 4117
Click on any hostname to see more info about the system (e.g. compilers)      (*) as reported by 'uname -p', except on Windows and Mac OS X

BUILD results for KEGGlincs on merida1


To the developers/maintainers of the KEGGlincs package:
- Please allow up to 24 hours (and sometimes 48 hours) for your latest push to git@git.bioconductor.org:packages/KEGGlincs.git to
reflect on this report. See How and When does the builder pull? When will my changes propagate? here for more information.
- Make sure to use the following settings in order to reproduce any error or warning you see on this page.

raw results

Package 978/2075HostnameOS / ArchINSTALLBUILDCHECKBUILD BIN
KEGGlincs 1.21.0  (landing page)
Shana White , Mario Medvedovic
Snapshot Date: 2022-01-20 13:55:17 -0500 (Thu, 20 Jan 2022)
git_url: https://git.bioconductor.org/packages/KEGGlincs
git_branch: master
git_last_commit: cf1a185
git_last_commit_date: 2021-10-26 12:30:32 -0500 (Tue, 26 Oct 2021)
nebbiolo1Linux (Ubuntu 20.04.4 LTS) / x86_64  OK    OK    OK  UNNEEDED, same version is already published
riesling1Windows Server 2019 Standard / x64  OK    OK    OK    OK  
palomino3Windows Server 2022 Datacenter / x64  OK    OK    OK    OK  NO, package depends on 'AnnotationDbi' which is not available
merida1macOS 10.14.6 Mojave / x86_64  OK    OK    OK    OK  UNNEEDED, same version is already published

Summary

Package: KEGGlincs
Version: 1.21.0
Command: /Library/Frameworks/R.framework/Resources/bin/R CMD build --keep-empty-dirs --no-resave-data KEGGlincs
StartedAt: 2022-01-20 18:37:53 -0500 (Thu, 20 Jan 2022)
EndedAt: 2022-01-20 18:39:11 -0500 (Thu, 20 Jan 2022)
EllapsedTime: 78.2 seconds
RetCode: 0
Status:   OK  
PackageFile: KEGGlincs_1.21.0.tar.gz
PackageFileSize: 4.215 MiB

Command output

##############################################################################
##############################################################################
###
### Running command:
###
###   /Library/Frameworks/R.framework/Resources/bin/R CMD build --keep-empty-dirs --no-resave-data KEGGlincs
###
##############################################################################
##############################################################################


* checking for file ‘KEGGlincs/DESCRIPTION’ ... OK
* preparing ‘KEGGlincs’:
* checking DESCRIPTION meta-information ... OK
* installing the package to build vignettes
* creating vignettes ... OK
* checking for LF line-endings in source and make files and shell scripts
* checking for empty or unneeded directories
Omitted ‘LazyData’ from DESCRIPTION
* building ‘KEGGlincs_1.21.0.tar.gz’