Index of /checkResults/devel/bioc-LATEST/KEGGREST/raw-results

[ICO]NameLast modifiedSizeDescription

[DIR]Parent Directory  -  
[   ]info.dcf12-Aug-2022 00:08 293  
[DIR]kjohnson/12-Jul-2022 00:06 -  
[DIR]lconway/12-Aug-2022 00:08 -  
[DIR]nebbiolo2/12-Aug-2022 00:05 -  
[DIR]palomino4/12-Aug-2022 00:06 -