Back to Multiple platform build/check report for BioC 3.12
ABCDEFGH[I]JKLMNOPQRSTUVWXYZ

BUILD BIN report for IsoformSwitchAnalyzeR on tokay1

This page was generated on 2020-10-24 11:02:24 -0400 (Sat, 24 Oct 2020).

TO THE DEVELOPERS/MAINTAINERS OF THE IsoformSwitchAnalyzeR PACKAGE: Please make sure to use the following settings in order to reproduce any error or warning you see on this page.
Package 920/1974HostnameOS / ArchINSTALLBUILDCHECKBUILD BIN
IsoformSwitchAnalyzeR 1.11.11
Kristoffer Vitting-Seerup
Snapshot Date: 2020-10-23 14:40:36 -0400 (Fri, 23 Oct 2020)
URL: https://git.bioconductor.org/packages/IsoformSwitchAnalyzeR
Branch: master
Last Commit: 83fbe04
Last Changed Date: 2020-10-13 08:25:03 -0400 (Tue, 13 Oct 2020)
malbec1 Linux (Ubuntu 18.04.4 LTS) / x86_64  OK  OK  OK UNNEEDED, same version exists in internal repository
nebbiolo1 Linux (Ubuntu 20.04.1 LTS) / x86_64  OK  OK  OK 
tokay1 Windows Server 2012 R2 Standard / x64  OK  OK  OK [ OK ]UNNEEDED, same version exists in internal repository
riesling1 Windows Server 2019 Standard / x64  OK  OK  OK  OK 
merida1 macOS 10.14.6 Mojave / x86_64  OK  OK  OK  OK UNNEEDED, same version exists in internal repository

Summary

Package: IsoformSwitchAnalyzeR
Version: 1.11.11
Command: rm -rf IsoformSwitchAnalyzeR.buildbin-libdir && mkdir IsoformSwitchAnalyzeR.buildbin-libdir && C:\Users\biocbuild\bbs-3.12-bioc\R\bin\R.exe CMD INSTALL --merge-multiarch --build --library=IsoformSwitchAnalyzeR.buildbin-libdir IsoformSwitchAnalyzeR_1.11.11.tar.gz
StartedAt: 2020-10-24 09:42:20 -0400 (Sat, 24 Oct 2020)
EndedAt: 2020-10-24 09:44:07 -0400 (Sat, 24 Oct 2020)
EllapsedTime: 107.0 seconds
RetCode: 0
Status:  OK  
PackageFile: IsoformSwitchAnalyzeR_1.11.11.zip
PackageFileSize: 4.785 MiB

Command output

##############################################################################
##############################################################################
###
### Running command:
###
###   rm -rf IsoformSwitchAnalyzeR.buildbin-libdir && mkdir IsoformSwitchAnalyzeR.buildbin-libdir && C:\Users\biocbuild\bbs-3.12-bioc\R\bin\R.exe CMD INSTALL --merge-multiarch --build --library=IsoformSwitchAnalyzeR.buildbin-libdir IsoformSwitchAnalyzeR_1.11.11.tar.gz
###
##############################################################################
##############################################################################



install for i386

* installing *source* package 'IsoformSwitchAnalyzeR' ...
** using staged installation
** libs
"C:/rtools40/mingw32/bin/"gcc  -I"C:/Users/BIOCBU~1/BBS-3~1.12-/R/include" -DNDEBUG     -I"C:/extsoft/include"     -O2 -Wall  -std=gnu99 -mfpmath=sse -msse2 -mstackrealign -c utils.c -o utils.o
C:/rtools40/mingw32/bin/gcc -shared -s -static-libgcc -o IsoformSwitchAnalyzeR.dll tmp.def utils.o -LC:/extsoft/lib/i386 -LC:/extsoft/lib -LC:/Users/BIOCBU~1/BBS-3~1.12-/R/bin/i386 -lR
installing to C:/Users/biocbuild/bbs-3.12-bioc/meat/IsoformSwitchAnalyzeR.buildbin-libdir/00LOCK-IsoformSwitchAnalyzeR/00new/IsoformSwitchAnalyzeR/libs/i386
** R
** data
** inst
** byte-compile and prepare package for lazy loading
** help
*** installing help indices
  converting help for package 'IsoformSwitchAnalyzeR'
    finding HTML links ... done
    CDSSet                                  html  
    IsoformSwitchTestDEXSeq                 html  
    IsoformSwitchTestDRIMSeq                html  
    finding level-2 HTML links ... done

    analyzeAlternativSplicing               html  
    analyzeCPAT                             html  
    analyzeCPC2                             html  
    analyzeIUPred2A                         html  
    analyzeNetSurf2                         html  
    analyzeORF                              html  
    analyzePFAM                             html  
    analyzeSignalP                          html  
    analyzeSwitchConsequences               html  
    expressionAnalysisPlots                 html  
    extractConsequenceEnrichment            html  
    extractConsequenceEnrichmentComparison
                                            html  
    extractConsequenceSummary               html  
    extractGeneExpression                   html  
    extractGenomeWideAnalysis               html  
    extractGenomeWideSplicingAnalysis       html  
    extractSequence                         html  
    extractSplicingEnrichment               html  
    extractSplicingEnrichmentComparison     html  
    extractSplicingSummary                  html  
    extractSwitchOverlap                    html  
    extractSwitchSummary                    html  
    extractTopSwitches                      html  
    getCDS                                  html  
    importCufflinksGalaxyData               html  
    importGTF                               html  
    importIsoformExpression                 html  
    importRdata                             html  
    importSalmonData                        html  
    isoformSwitchAnalysisCombined           html  
    isoformSwitchAnalysisPart1              html  
    isoformSwitchAnalysisPart2              html  
    isoformToGeneExp                        html  
    isoformToIsoformFraction                html  
    preFilter                               html  
    prepareSalmonFilesDataFrame             html  
    subsetSwitchAnalyzeRlist                html  
    switchAnalyzeRlist                      html  
    switchPlot                              html  
    switchPlotTopSwitches                   html  
    switchPlotTranscript                    html  
    testData                                html  
** building package indices
** installing vignettes
** testing if installed package can be loaded from temporary location
** testing if installed package can be loaded from final location
** testing if installed package keeps a record of temporary installation path

install for x64

* installing *source* package 'IsoformSwitchAnalyzeR' ...
** libs
"C:/rtools40/mingw64/bin/"gcc  -I"C:/Users/BIOCBU~1/BBS-3~1.12-/R/include" -DNDEBUG     -I"C:/extsoft/include"     -O2 -Wall  -std=gnu99 -mfpmath=sse -msse2 -mstackrealign -c utils.c -o utils.o
C:/rtools40/mingw64/bin/gcc -shared -s -static-libgcc -o IsoformSwitchAnalyzeR.dll tmp.def utils.o -LC:/extsoft/lib/x64 -LC:/extsoft/lib -LC:/Users/BIOCBU~1/BBS-3~1.12-/R/bin/x64 -lR
installing to C:/Users/biocbuild/bbs-3.12-bioc/meat/IsoformSwitchAnalyzeR.buildbin-libdir/IsoformSwitchAnalyzeR/libs/x64
** testing if installed package can be loaded
* MD5 sums
packaged installation of 'IsoformSwitchAnalyzeR' as IsoformSwitchAnalyzeR_1.11.11.zip
* DONE (IsoformSwitchAnalyzeR)