Back to Multiple platform build/check report for BioC 3.14
ABCDEFGH[I]JKLMNOPQRSTUVWXYZ

This page was generated on 2021-10-25 14:06:21 -0400 (Mon, 25 Oct 2021).

CHECK results for IsoformSwitchAnalyzeR on riesling1

To the developers/maintainers of the IsoformSwitchAnalyzeR package:
- Please allow up to 24 hours (and sometimes 48 hours) for your latest push to git@git.bioconductor.org:packages/IsoformSwitchAnalyzeR.git to
reflect on this report. See How and When does the builder pull? When will my changes propagate? here for more information.
- Make sure to use the following settings in order to reproduce any error or warning you see on this page.

raw results

Package 963/2083HostnameOS / ArchINSTALLBUILDCHECKBUILD BIN
IsoformSwitchAnalyzeR 1.15.02  (landing page)
Kristoffer Vitting-Seerup
Snapshot Date: 2021-10-24 14:50:04 -0400 (Sun, 24 Oct 2021)
git_url: https://git.bioconductor.org/packages/IsoformSwitchAnalyzeR
git_branch: master
git_last_commit: 01aa984
git_last_commit_date: 2021-09-14 06:20:29 -0400 (Tue, 14 Sep 2021)
nebbiolo2Linux (Ubuntu 20.04.2 LTS) / x86_64  OK    OK    OK  UNNEEDED, same version is already published
riesling1Windows Server 2019 Standard / x64  OK    OK    OK    OK  UNNEEDED, same version is already published
merida1macOS 10.14.6 Mojave / x86_64  OK    OK    OK    OK  UNNEEDED, same version is already published
machv2macOS 10.14.6 Mojave / x86_64  OK    OK    OK    OK  

Summary

Package: IsoformSwitchAnalyzeR
Version: 1.15.02
Command: D:\biocbuild\bbs-3.14-bioc\R\bin\R.exe CMD check --force-multiarch --install=check:IsoformSwitchAnalyzeR.install-out.txt --library=D:\biocbuild\bbs-3.14-bioc\R\library --no-vignettes --timings IsoformSwitchAnalyzeR_1.15.02.tar.gz
StartedAt: 2021-10-25 01:37:13 -0400 (Mon, 25 Oct 2021)
EndedAt: 2021-10-25 01:53:31 -0400 (Mon, 25 Oct 2021)
EllapsedTime: 978.0 seconds
RetCode: 0
Status:   OK  
CheckDir: IsoformSwitchAnalyzeR.Rcheck
Warnings: 0

Command output

##############################################################################
##############################################################################
###
### Running command:
###
###   D:\biocbuild\bbs-3.14-bioc\R\bin\R.exe CMD check --force-multiarch --install=check:IsoformSwitchAnalyzeR.install-out.txt --library=D:\biocbuild\bbs-3.14-bioc\R\library --no-vignettes --timings IsoformSwitchAnalyzeR_1.15.02.tar.gz
###
##############################################################################
##############################################################################


* using log directory 'D:/biocbuild/bbs-3.14-bioc/meat/IsoformSwitchAnalyzeR.Rcheck'
* using R version 4.1.1 (2021-08-10)
* using platform: x86_64-w64-mingw32 (64-bit)
* using session charset: ISO8859-1
* using option '--no-vignettes'
* checking for file 'IsoformSwitchAnalyzeR/DESCRIPTION' ... OK
* checking extension type ... Package
* this is package 'IsoformSwitchAnalyzeR' version '1.15.02'
* checking package namespace information ... OK
* checking package dependencies ... OK
* checking if this is a source package ... OK
* checking if there is a namespace ... OK
* checking for hidden files and directories ... OK
* checking for portable file names ... OK
* checking whether package 'IsoformSwitchAnalyzeR' can be installed ... OK
* checking installed package size ... NOTE
  installed size is  6.9Mb
  sub-directories of 1Mb or more:
    extdata   4.2Mb
* checking package directory ... OK
* checking 'build' directory ... OK
* checking DESCRIPTION meta-information ... NOTE
Malformed Title field: should not end in a period.
* checking top-level files ... OK
* checking for left-over files ... OK
* checking index information ... OK
* checking package subdirectories ... OK
* checking R files for non-ASCII characters ... OK
* checking R files for syntax errors ... OK
* loading checks for arch 'i386'
** checking whether the package can be loaded ... OK
** checking whether the package can be loaded with stated dependencies ... OK
** checking whether the package can be unloaded cleanly ... OK
** checking whether the namespace can be loaded with stated dependencies ... OK
** checking whether the namespace can be unloaded cleanly ... OK
* loading checks for arch 'x64'
** checking whether the package can be loaded ... OK
** checking whether the package can be loaded with stated dependencies ... OK
** checking whether the package can be unloaded cleanly ... OK
** checking whether the namespace can be loaded with stated dependencies ... OK
** checking whether the namespace can be unloaded cleanly ... OK
* checking dependencies in R code ... OK
* checking S3 generic/method consistency ... OK
* checking replacement functions ... OK
* checking foreign function calls ... OK
* checking R code for possible problems ... NOTE
analyzeIUPred2A: no visible global function definition for 'queryHits'
analyzeIUPred2A: no visible global function definition for
  'subjectHits'
analyzeNovelIsoformORF: no visible binding for global variable
  'orf_origin'
analyzeNovelIsoformORF: no visible binding for global variable
  'orfStartGenomic'
analyzeNovelIsoformORF: no visible binding for global variable
  'isoform_id'
analyzeNovelIsoformORF: no visible binding for global variable
  'orfEndGenomic'
compareAnnotationOfTwoIsoforms: no visible global function definition
  for 'queryHits'
compareAnnotationOfTwoIsoforms: no visible global function definition
  for 'subjectHits'
expressionAnalysisPlot: no visible binding for global variable
  'Condition'
expressionAnalysisPlot: no visible binding for global variable
  'gene_expression'
expressionAnalysisPlot: no visible binding for global variable 'CI_up'
expressionAnalysisPlot: no visible binding for global variable
  'CI_down'
expressionAnalysisPlot: no visible binding for global variable
  'sigLevelPos'
expressionAnalysisPlot: no visible binding for global variable
  'sigLevel'
expressionAnalysisPlot: no visible binding for global variable 'CI_hi'
expressionAnalysisPlot: no visible binding for global variable 'CI_low'
expressionAnalysisPlot: no visible binding for global variable 'ymax'
expressionAnalysisPlot: no visible binding for global variable
  'sigEval'
expressionAnalysisPlot: no visible binding for global variable 'idNr'
expressionAnalysisPlot: no visible binding for global variable 'IF'
extractConsequenceEnrichment: no visible binding for global variable
  'feature2'
extractConsequenceEnrichment: no visible binding for global variable
  'propOfRelevantEvents'
extractConsequenceEnrichment: no visible binding for global variable
  'Significant'
extractConsequenceEnrichment: no visible binding for global variable
  'propCiLo'
extractConsequenceEnrichment: no visible binding for global variable
  'propCiHi'
extractConsequenceEnrichment: no visible binding for global variable
  'nTot'
extractConsequenceEnrichmentComparison: no visible binding for global
  variable 'Comparison'
extractConsequenceEnrichmentComparison: no visible binding for global
  variable 'propOfRelevantEvents'
extractConsequenceEnrichmentComparison: no visible binding for global
  variable 'Significant'
extractConsequenceEnrichmentComparison: no visible binding for global
  variable 'nTot'
extractConsequenceEnrichmentComparison: no visible binding for global
  variable 'propCiHi'
extractConsequenceEnrichmentComparison: no visible binding for global
  variable 'propCiLo'
extractConsequenceGenomeWide: no visible binding for global variable
  'isoform_feature'
extractConsequenceGenomeWide: no visible binding for global variable
  'value'
extractConsequenceGenomeWide: no visible binding for global variable
  'variable'
extractConsequenceGenomeWide: no visible binding for global variable
  'ymax'
extractConsequenceGenomeWide: no visible binding for global variable
  'significance'
extractConsequenceGenomeWide: no visible binding for global variable
  'idNr'
extractConsequenceSummary: no visible binding for global variable
  'switchConsequence'
extractConsequenceSummary: no visible binding for global variable
  'geneFraction'
extractConsequenceSummary: no visible binding for global variable
  'nrGenesWithConsequences'
extractConsequenceSummary: no visible binding for global variable
  'isoFraction'
extractConsequenceSummary: no visible binding for global variable
  'nrIsoWithConsequences'
extractSplicingEnrichment: no visible binding for global variable
  'AStype'
extractSplicingEnrichment: no visible binding for global variable
  'propUp'
extractSplicingEnrichment: no visible binding for global variable
  'Significant'
extractSplicingEnrichment: no visible binding for global variable
  'nTot'
extractSplicingEnrichment: no visible binding for global variable
  'propUpCiHi'
extractSplicingEnrichment: no visible binding for global variable
  'propUpCiLo'
extractSplicingEnrichmentComparison: no visible binding for global
  variable 'Comparison'
extractSplicingEnrichmentComparison: no visible binding for global
  variable 'propUp'
extractSplicingEnrichmentComparison: no visible binding for global
  variable 'Significant'
extractSplicingEnrichmentComparison: no visible binding for global
  variable 'nTot'
extractSplicingEnrichmentComparison: no visible binding for global
  variable 'propUpCiHi'
extractSplicingEnrichmentComparison: no visible binding for global
  variable 'propUpCiLo'
extractSplicingGenomeWide: no visible binding for global variable
  'isoform_feature'
extractSplicingGenomeWide: no visible binding for global variable
  'value'
extractSplicingGenomeWide: no visible binding for global variable
  'variable'
extractSplicingGenomeWide: no visible binding for global variable
  'ymax'
extractSplicingGenomeWide: no visible binding for global variable
  'significance'
extractSplicingGenomeWide: no visible binding for global variable
  'idNr'
extractSplicingSummary: no visible binding for global variable
  'splicingResult'
extractSplicingSummary: no visible binding for global variable
  'geneFraction'
extractSplicingSummary: no visible binding for global variable
  'nrGenesWithConsequences'
extractSplicingSummary: no visible binding for global variable
  'isoFraction'
extractSplicingSummary: no visible binding for global variable
  'nrIsoWithConsequences'
grangesFracOverlap: no visible global function definition for
  'queryHits'
grangesFracOverlap: no visible global function definition for
  'subjectHits'
importGTF: no visible binding for global variable 'gene_id'
importGTF: no visible binding for global variable 'gene_name'
importRdata: no visible binding for global variable 'isoform_id'
importRdata: no visible binding for global variable 'gene_id'
importRdata: no visible binding for global variable 'ref_gene_id'
importRdata: no visible binding for global variable 'n_ref_gene_ids'
importRdata: no visible binding for global variable 'n_iso_na'
importRdata: no visible global function definition for 'queryHits'
importRdata: no visible global function definition for 'subjectHits'
importRdata: no visible binding for global variable 'novel_iso'
importRdata: no visible binding for global variable 'known_ref_gene_id'
importRdata: no visible binding for global variable 'nt_overlap'
importRdata: no visible binding for global variable 'frac_overlap'
importRdata: no visible binding for global variable
  'log2_overlap_ratio'
importRdata: no visible binding for global variable 'has_ref_gene_id'
importRdata: no visible binding for global variable 'has_novel_iso'
importRdata: no visible binding for global variable 'gene_name'
importRdata: no visible binding for global variable 'n_ref'
importSalmonData: no visible global function definition for 'metadata'
importSalmonData: no visible global function definition for 'assay'
isoformToGeneExp: no visible binding for global variable 'gene_id'
isoformToGeneExp: no visible binding for global variable 'gene_name'
preFilter: no visible global function definition for 'setdff'
switchPlotTranscript: no visible global function definition for
  'queryHits'
switchPlotTranscript: no visible binding for global variable 'y'
switchPlotTranscript: no visible binding for global variable 'yend'
switchPlotTranscript: no visible binding for global variable 'x'
switchPlotTranscript: no visible binding for global variable 'ymin'
switchPlotTranscript: no visible binding for global variable 'xmin'
switchPlotTranscript: no visible binding for global variable 'ymax'
switchPlotTranscript: no visible binding for global variable 'xmax'
switchPlotTranscript: no visible binding for global variable 'Domain'
Undefined global functions or variables:
  AStype CI_down CI_hi CI_low CI_up Comparison Condition Domain IF
  Significant assay feature2 frac_overlap geneFraction gene_expression
  gene_id gene_name has_novel_iso has_ref_gene_id idNr isoFraction
  isoform_feature isoform_id known_ref_gene_id log2_overlap_ratio
  metadata nTot n_iso_na n_ref n_ref_gene_ids novel_iso
  nrGenesWithConsequences nrIsoWithConsequences nt_overlap
  orfEndGenomic orfStartGenomic orf_origin propCiHi propCiLo
  propOfRelevantEvents propUp propUpCiHi propUpCiLo queryHits
  ref_gene_id setdff sigEval sigLevel sigLevelPos significance
  splicingResult subjectHits switchConsequence value variable x xmax
  xmin y yend ymax ymin
* checking Rd files ... OK
* checking Rd metadata ... OK
* checking Rd cross-references ... OK
* checking for missing documentation entries ... OK
* checking for code/documentation mismatches ... OK
* checking Rd \usage sections ... OK
* checking Rd contents ... OK
* checking for unstated dependencies in examples ... OK
* checking contents of 'data' directory ... OK
* checking data for non-ASCII characters ... OK
* checking data for ASCII and uncompressed saves ... OK
* checking line endings in C/C++/Fortran sources/headers ... OK
* checking compiled code ... NOTE
Note: information on .o files for i386 is not available
Note: information on .o files for x64 is not available
File 'D:/biocbuild/bbs-3.14-bioc/R/library/IsoformSwitchAnalyzeR/libs/i386/IsoformSwitchAnalyzeR.dll':
  Found 'abort', possibly from 'abort' (C), 'runtime' (Fortran)
File 'D:/biocbuild/bbs-3.14-bioc/R/library/IsoformSwitchAnalyzeR/libs/x64/IsoformSwitchAnalyzeR.dll':
  Found 'abort', possibly from 'abort' (C), 'runtime' (Fortran)

Compiled code should not call entry points which might terminate R nor
write to stdout/stderr instead of to the console, nor use Fortran I/O
nor system RNGs. The detected symbols are linked into the code but
might come from libraries and not actually be called.

See 'Writing portable packages' in the 'Writing R Extensions' manual.
* checking files in 'vignettes' ... OK
* checking examples ...
** running examples for arch 'i386' ... OK
Examples with CPU (user + system) or elapsed time > 5s
                               user system elapsed
IsoformSwitchTestDEXSeq       39.33   0.19   44.60
importSalmonData              28.58   1.05   44.58
isoformSwitchAnalysisCombined 27.52   0.34   27.86
extractSequence               11.53   0.03   11.56
analyzeORF                    11.39   0.01   11.40
extractSwitchSummary          11.19   0.03   11.22
extractTopSwitches            10.53   0.03   10.56
prepareSalmonFilesDataFrame   10.17   0.20   16.36
isoformSwitchAnalysisPart1    10.22   0.03   10.25
IsoformSwitchTestDRIMSeq       3.00   0.03    8.09
isoformToGeneExp               1.47   0.03    9.08
switchAnalyzeRlist             1.10   0.04    6.19
importRdata                    1.06   0.01    6.14
** running examples for arch 'x64' ... OK
Examples with CPU (user + system) or elapsed time > 5s
                               user system elapsed
IsoformSwitchTestDEXSeq       41.72   0.21   47.05
importSalmonData              27.29   0.92   44.77
isoformSwitchAnalysisCombined 27.52   0.67   28.18
extractSequence               12.72   0.02   12.73
extractSwitchSummary          12.39   0.10   12.50
analyzeORF                    12.27   0.03   12.30
extractTopSwitches            11.53   0.04   11.56
isoformSwitchAnalysisPart1    11.17   0.01   11.19
prepareSalmonFilesDataFrame    9.59   0.19   15.83
IsoformSwitchTestDRIMSeq       3.23   0.01    8.31
isoformToGeneExp               1.52   0.05    9.14
importRdata                    1.13   0.00    6.22
switchAnalyzeRlist             1.06   0.03    6.15
* checking for unstated dependencies in vignettes ... OK
* checking package vignettes in 'inst/doc' ... OK
* checking running R code from vignettes ... SKIPPED
* checking re-building of vignette outputs ... SKIPPED
* checking PDF version of manual ... OK
* DONE

Status: 4 NOTEs
See
  'D:/biocbuild/bbs-3.14-bioc/meat/IsoformSwitchAnalyzeR.Rcheck/00check.log'
for details.



Installation output

IsoformSwitchAnalyzeR.Rcheck/00install.out

##############################################################################
##############################################################################
###
### Running command:
###
###   C:\cygwin\bin\curl.exe -O http://155.52.207.166/BBS/3.14/bioc/src/contrib/IsoformSwitchAnalyzeR_1.15.02.tar.gz && rm -rf IsoformSwitchAnalyzeR.buildbin-libdir && mkdir IsoformSwitchAnalyzeR.buildbin-libdir && D:\biocbuild\bbs-3.14-bioc\R\bin\R.exe CMD INSTALL --merge-multiarch --build --library=IsoformSwitchAnalyzeR.buildbin-libdir IsoformSwitchAnalyzeR_1.15.02.tar.gz && D:\biocbuild\bbs-3.14-bioc\R\bin\R.exe CMD INSTALL IsoformSwitchAnalyzeR_1.15.02.zip && rm IsoformSwitchAnalyzeR_1.15.02.tar.gz IsoformSwitchAnalyzeR_1.15.02.zip
###
##############################################################################
##############################################################################


  % Total    % Received % Xferd  Average Speed   Time    Time     Time  Current
                                 Dload  Upload   Total   Spent    Left  Speed

  0     0    0     0    0     0      0      0 --:--:-- --:--:-- --:--:--     0
  0     0    0     0    0     0      0      0 --:--:-- --:--:-- --:--:--     0
100 2922k  100 2922k    0     0  4151k      0 --:--:-- --:--:-- --:--:-- 4145k

install for i386

* installing *source* package 'IsoformSwitchAnalyzeR' ...
** using staged installation
** libs
"C:/rtools40/mingw32/bin/"gcc  -I"D:/biocbuild/bbs-3.14-bioc/R/include" -DNDEBUG     -I"C:/extsoft/include"     -O2 -Wall  -std=gnu99 -mfpmath=sse -msse2 -mstackrealign  -c utils.c -o utils.o
C:/rtools40/mingw32/bin/gcc -shared -s -static-libgcc -o IsoformSwitchAnalyzeR.dll tmp.def utils.o -LC:/extsoft/lib/i386 -LC:/extsoft/lib -LD:/biocbuild/bbs-3.14-bioc/R/bin/i386 -lR
installing to D:/biocbuild/bbs-3.14-bioc/meat/IsoformSwitchAnalyzeR.buildbin-libdir/00LOCK-IsoformSwitchAnalyzeR/00new/IsoformSwitchAnalyzeR/libs/i386
** R
** data
** inst
** byte-compile and prepare package for lazy loading
** help
*** installing help indices
  converting help for package 'IsoformSwitchAnalyzeR'
    finding HTML links ... done
    CDSSet                                  html  
    IsoformSwitchTestDEXSeq                 html  
    IsoformSwitchTestDRIMSeq                html  
    finding level-2 HTML links ... done

    addORFfromGTF                           html  
    analyzeAlternativSplicing               html  
    analyzeCPAT                             html  
    analyzeCPC2                             html  
    analyzeIUPred2A                         html  
    analyzeNetSurf2                         html  
    analyzeNovelIsoformORF                  html  
    analyzeORF                              html  
    analyzePFAM                             html  
    analyzeSignalP                          html  
    analyzeSwitchConsequences               html  
    expressionAnalysisPlots                 html  
    extractConsequenceEnrichment            html  
    extractConsequenceEnrichmentComparison
                                            html  
    extractConsequenceSummary               html  
    extractGeneExpression                   html  
    extractGenomeWideAnalysis               html  
    extractGenomeWideSplicingAnalysis       html  
    extractSequence                         html  
    extractSplicingEnrichment               html  
    extractSplicingEnrichmentComparison     html  
    extractSplicingSummary                  html  
    extractSwitchOverlap                    html  
    extractSwitchSummary                    html  
    extractTopSwitches                      html  
    getCDS                                  html  
    importCufflinksGalaxyData               html  
    importGTF                               html  
    importIsoformExpression                 html  
    importRdata                             html  
    importSalmonData                        html  
    isoformSwitchAnalysisCombined           html  
    isoformSwitchAnalysisPart1              html  
    isoformSwitchAnalysisPart2              html  
    isoformToGeneExp                        html  
    isoformToIsoformFraction                html  
    preFilter                               html  
    prepareSalmonFilesDataFrame             html  
    subsetSwitchAnalyzeRlist                html  
    switchAnalyzeRlist                      html  
    switchPlot                              html  
    switchPlotTopSwitches                   html  
    switchPlotTranscript                    html  
    testData                                html  
** building package indices
** installing vignettes
** testing if installed package can be loaded from temporary location
** testing if installed package can be loaded from final location
** testing if installed package keeps a record of temporary installation path

install for x64

* installing *source* package 'IsoformSwitchAnalyzeR' ...
** libs
"C:/rtools40/mingw64/bin/"gcc  -I"D:/biocbuild/bbs-3.14-bioc/R/include" -DNDEBUG     -I"C:/extsoft/include"     -O2 -Wall  -std=gnu99 -mfpmath=sse -msse2 -mstackrealign  -c utils.c -o utils.o
C:/rtools40/mingw64/bin/gcc -shared -s -static-libgcc -o IsoformSwitchAnalyzeR.dll tmp.def utils.o -LC:/extsoft/lib/x64 -LC:/extsoft/lib -LD:/biocbuild/bbs-3.14-bioc/R/bin/x64 -lR
installing to D:/biocbuild/bbs-3.14-bioc/meat/IsoformSwitchAnalyzeR.buildbin-libdir/IsoformSwitchAnalyzeR/libs/x64
** testing if installed package can be loaded
* MD5 sums
packaged installation of 'IsoformSwitchAnalyzeR' as IsoformSwitchAnalyzeR_1.15.02.zip
* DONE (IsoformSwitchAnalyzeR)
* installing to library 'D:/biocbuild/bbs-3.14-bioc/R/library'
package 'IsoformSwitchAnalyzeR' successfully unpacked and MD5 sums checked

Tests output


Example timings

IsoformSwitchAnalyzeR.Rcheck/examples_i386/IsoformSwitchAnalyzeR-Ex.timings

nameusersystemelapsed
IsoformSwitchTestDEXSeq39.33 0.1944.60
IsoformSwitchTestDRIMSeq3.000.038.09
addORFfromGTF0.640.003.16
analyzeAlternativSplicing4.090.004.09
analyzeCPAT0.050.000.05
analyzeCPC20.040.000.04
analyzeIUPred2A1.660.001.66
analyzeNovelIsoformORF0.420.020.44
analyzeORF11.39 0.0111.40
analyzePFAM0.300.020.32
analyzeSignalP0.060.000.06
analyzeSwitchConsequences0.670.020.69
expressionAnalysisPlots0.600.010.61
extractConsequenceEnrichment0.390.000.39
extractConsequenceEnrichmentComparison0.510.000.51
extractConsequenceSummary0.490.000.49
extractGeneExpression0.030.020.04
extractGenomeWideAnalysis1.660.011.67
extractGenomeWideSplicingAnalysis1.670.021.69
extractSequence11.53 0.0311.56
extractSplicingEnrichment0.730.030.77
extractSplicingEnrichmentComparison0.790.000.78
extractSplicingSummary0.650.020.67
extractSwitchOverlap0.360.010.38
extractSwitchSummary11.19 0.0311.22
extractTopSwitches10.53 0.0310.56
getCDS000
importCufflinksGalaxyData000
importGTF0.620.003.14
importIsoformExpression0.550.043.14
importRdata1.060.016.14
importSalmonData28.58 1.0544.58
isoformSwitchAnalysisCombined27.52 0.3427.86
isoformSwitchAnalysisPart110.22 0.0310.25
isoformSwitchAnalysisPart22.220.022.24
isoformToGeneExp1.470.039.08
isoformToIsoformFraction0.160.030.23
preFilter0.030.000.03
prepareSalmonFilesDataFrame10.17 0.2016.36
subsetSwitchAnalyzeRlist0.010.000.02
switchAnalyzeRlist1.100.046.19
switchPlot2.870.012.89
switchPlotTranscript1.410.001.40
testData0.020.000.02

IsoformSwitchAnalyzeR.Rcheck/examples_x64/IsoformSwitchAnalyzeR-Ex.timings

nameusersystemelapsed
IsoformSwitchTestDEXSeq41.72 0.2147.05
IsoformSwitchTestDRIMSeq3.230.018.31
addORFfromGTF0.650.003.17
analyzeAlternativSplicing4.430.004.42
analyzeCPAT0.040.000.05
analyzeCPC20.030.000.03
analyzeIUPred2A1.780.081.86
analyzeNovelIsoformORF0.470.000.47
analyzeORF12.27 0.0312.30
analyzePFAM0.310.000.32
analyzeSignalP0.070.020.07
analyzeSwitchConsequences0.700.000.71
expressionAnalysisPlots0.580.010.60
extractConsequenceEnrichment0.310.000.32
extractConsequenceEnrichmentComparison0.50.00.5
extractConsequenceSummary0.470.000.47
extractGeneExpression0.030.020.04
extractGenomeWideAnalysis1.740.031.77
extractGenomeWideSplicingAnalysis1.700.011.72
extractSequence12.72 0.0212.73
extractSplicingEnrichment0.750.000.75
extractSplicingEnrichmentComparison0.830.000.83
extractSplicingSummary0.650.000.66
extractSwitchOverlap0.330.020.34
extractSwitchSummary12.39 0.1012.50
extractTopSwitches11.53 0.0411.56
getCDS000
importCufflinksGalaxyData000
importGTF0.670.033.22
importIsoformExpression0.550.083.17
importRdata1.130.006.22
importSalmonData27.29 0.9244.77
isoformSwitchAnalysisCombined27.52 0.6728.18
isoformSwitchAnalysisPart111.17 0.0111.19
isoformSwitchAnalysisPart22.280.102.38
isoformToGeneExp1.520.059.14
isoformToIsoformFraction0.190.040.25
preFilter0.030.000.03
prepareSalmonFilesDataFrame 9.59 0.1915.83
subsetSwitchAnalyzeRlist0.020.020.03
switchAnalyzeRlist1.060.036.15
switchPlot2.190.002.19
switchPlotTranscript1.50.01.5
testData0.010.000.02