Index of /checkResults/devel/bioc-LATEST/IsoformSwitchAnalyzeR/raw-results/riesling1

[ICO]NameLast modifiedSizeDescription

[DIR]Parent Directory  -  
[TXT]buildbin-out.txt29-Jan-2022 01:08 4.3K 
[   ]buildbin-summary.dcf29-Jan-2022 01:08 603  
[TXT]buildsrc-out.txt29-Jan-2022 01:08 1.0K 
[   ]buildsrc-summary.dcf29-Jan-2022 01:08 511  
[TXT]checksrc-out.txt29-Jan-2022 01:08 13K 
[   ]checksrc-summary.dcf29-Jan-2022 01:08 505  
[TXT]install-out.txt29-Jan-2022 01:08 4.1K 
[   ]install-summary.dcf29-Jan-2022 01:08 298