Index of /checkResults/devel/bioc-LATEST/IsoformSwitchAnalyzeR/raw-results/nebbiolo1

[ICO]NameLast modifiedSizeDescription

[DIR]Parent Directory  -  
[TXT]buildsrc-out.txt25-Jan-2022 01:05 956  
[   ]buildsrc-summary.dcf25-Jan-2022 01:05 462  
[TXT]checksrc-out.txt25-Jan-2022 01:05 12K 
[   ]checksrc-summary.dcf25-Jan-2022 01:05 482  
[TXT]install-out.txt25-Jan-2022 01:05 1.4K 
[   ]install-summary.dcf25-Jan-2022 01:05 288