Index of /checkResults/devel/bioc-LATEST/IsoformSwitchAnalyzeR/raw-results/merida1

[ICO]NameLast modifiedSizeDescription

[DIR]Parent Directory  -  
[TXT]buildbin-out.txt25-Jan-2022 01:11 2.8K 
[   ]buildbin-summary.dcf25-Jan-2022 01:11 618  
[TXT]buildsrc-out.txt25-Jan-2022 01:11 966  
[   ]buildsrc-summary.dcf25-Jan-2022 01:11 472  
[TXT]checksrc-out.txt25-Jan-2022 01:11 13K 
[   ]checksrc-summary.dcf25-Jan-2022 01:11 502  
[TXT]install-out.txt25-Jan-2022 01:11 1.7K 
[   ]install-summary.dcf25-Jan-2022 01:11 299