Name | Last modified | Size | Description | |
---|---|---|---|---|
Parent Directory | - | |||
install-summary.dcf | 28-Jun-2024 00:39 | 296 | ||
buildsrc-summary.dcf | 28-Jun-2024 00:39 | 467 | ||
checksrc-summary.dcf | 28-Jun-2024 00:39 | 498 | ||
buildbin-summary.dcf | 28-Jun-2024 00:39 | 611 | ||
buildsrc-out.txt | 28-Jun-2024 00:39 | 964 | ||
install-out.txt | 28-Jun-2024 00:39 | 1.8K | ||
buildbin-out.txt | 28-Jun-2024 00:39 | 4.0K | ||
checksrc-out.txt | 28-Jun-2024 00:39 | 14K | ||