Index of /checkResults/devel/bioc-LATEST/IsoformSwitchAnalyzeR/raw-results

[ICO]NameLast modifiedSizeDescription

[DIR]Parent Directory  -  
[DIR]merida1/25-Jan-2022 01:11 -  
[DIR]nebbiolo1/25-Jan-2022 01:05 -  
[DIR]palomino3/25-Jan-2022 01:09 -  
[DIR]riesling1/25-Jan-2022 01:07 -  
[   ]info.dcf25-Jan-2022 01:11 313