Back to Multiple platform build/check report for BioC 3.12
ABCDEFGH[I]JKLMNOPQRSTUVWXYZ

BUILD report for InPAS on tokay1

This page was generated on 2020-08-07 12:05:57 -0400 (Fri, 07 Aug 2020).

TO THE DEVELOPERS/MAINTAINERS OF THE InPAS PACKAGE: Please make sure to use the following settings in order to reproduce any error or warning you see on this page.
Package 866/1882HostnameOS / ArchINSTALLBUILDCHECKBUILD BIN
InPAS 1.21.0
Jianhong Ou
Snapshot Date: 2020-08-06 14:50:46 -0400 (Thu, 06 Aug 2020)
URL: https://git.bioconductor.org/packages/InPAS
Branch: master
Last Commit: 54b29cc
Last Changed Date: 2020-04-27 14:47:33 -0400 (Mon, 27 Apr 2020)
malbec1 Linux (Ubuntu 18.04.4 LTS) / x86_64  OK  OK  OK UNNEEDED, same version exists in internal repository
tokay1 Windows Server 2012 R2 Standard / x64  OK [ OK ] OK  OK UNNEEDED, same version exists in internal repository
merida1 macOS 10.14.6 Mojave / x86_64  OK  OK  OK  OK UNNEEDED, same version exists in internal repository

Summary

Package: InPAS
Version: 1.21.0
Command: chmod a+r InPAS -R && C:\Users\biocbuild\bbs-3.12-bioc\R\bin\R.exe CMD build --keep-empty-dirs --no-resave-data InPAS
StartedAt: 2020-08-06 20:38:39 -0400 (Thu, 06 Aug 2020)
EndedAt: 2020-08-06 20:47:22 -0400 (Thu, 06 Aug 2020)
EllapsedTime: 523.4 seconds
RetCode: 0
Status:  OK  
PackageFile: InPAS_1.21.0.tar.gz
PackageFileSize: 2.929 MiB

Command output

##############################################################################
##############################################################################
###
### Running command:
###
###   chmod a+r InPAS -R && C:\Users\biocbuild\bbs-3.12-bioc\R\bin\R.exe CMD build --keep-empty-dirs --no-resave-data InPAS
###
##############################################################################
##############################################################################


* checking for file 'InPAS/DESCRIPTION' ... OK
* preparing 'InPAS':
* checking DESCRIPTION meta-information ... OK
* installing the package to build vignettes
* creating vignettes ... OK
* checking for LF line-endings in source and make files and shell scripts
* checking for empty or unneeded directories
* looking to see if a 'data/datalist' file should be added
* building 'InPAS_1.21.0.tar.gz'