Back to Multiple platform build/check report for BioC 3.15
ABCDEFGH[I]JKLMNOPQRSTUVWXYZ

This page was generated on 2022-01-26 11:07:55 -0500 (Wed, 26 Jan 2022).

HostnameOSArch (*)R versionInstalled pkgs
nebbiolo1Linux (Ubuntu 20.04.4 LTS)x86_64R Under development (unstable) (2022-01-05 r81451) -- "Unsuffered Consequences" 4164
riesling1Windows Server 2019 Standardx64R Under development (unstable) (2021-11-21 r81221) -- "Unsuffered Consequences" 4059
palomino3Windows Server 2022 Datacenterx64R Under development (unstable) (2021-12-21 r81400 ucrt) -- "Unsuffered Consequences" 4001
merida1macOS 10.14.6 Mojavex86_64R Under development (unstable) (2022-01-05 r81451) -- "Unsuffered Consequences" 4118
Click on any hostname to see more info about the system (e.g. compilers)      (*) as reported by 'uname -p', except on Windows and Mac OS X

BUILD BIN results for InPAS on riesling1


To the developers/maintainers of the InPAS package:
- Please allow up to 24 hours (and sometimes 48 hours) for your latest push to git@git.bioconductor.org:packages/InPAS.git to
reflect on this report. See How and When does the builder pull? When will my changes propagate? here for more information.
- Make sure to use the following settings in order to reproduce any error or warning you see on this page.

raw results

Package 932/2075HostnameOS / ArchINSTALLBUILDCHECKBUILD BIN
InPAS 2.3.1  (landing page)
Jianhong Ou
Snapshot Date: 2022-01-25 13:55:17 -0500 (Tue, 25 Jan 2022)
git_url: https://git.bioconductor.org/packages/InPAS
git_branch: master
git_last_commit: 320001a
git_last_commit_date: 2021-11-20 04:40:58 -0500 (Sat, 20 Nov 2021)
nebbiolo1Linux (Ubuntu 20.04.4 LTS) / x86_64  OK    OK    OK  UNNEEDED, same version is already published
riesling1Windows Server 2019 Standard / x64  OK    OK    OK    OK  
palomino3Windows Server 2022 Datacenter / x64  OK    OK    OK    OK  NO, package depends on 'Biobase' which is not available
merida1macOS 10.14.6 Mojave / x86_64  OK    OK    OK    OK  UNNEEDED, same version is already published

Summary

Package: InPAS
Version: 2.3.1
Command: rm -rf InPAS.buildbin-libdir && mkdir InPAS.buildbin-libdir && D:\biocbuild\bbs-3.15-bioc\R\bin\R.exe CMD INSTALL --build --library=InPAS.buildbin-libdir InPAS_2.3.1.tar.gz
StartedAt: 2022-01-25 21:03:35 -0500 (Tue, 25 Jan 2022)
EndedAt: 2022-01-25 21:04:52 -0500 (Tue, 25 Jan 2022)
EllapsedTime: 77.6 seconds
RetCode: 0
Status:   OK  
PackageFile: InPAS_2.3.1.zip
PackageFileSize: 3.407 MiB

Command output

##############################################################################
##############################################################################
###
### Running command:
###
###   rm -rf InPAS.buildbin-libdir && mkdir InPAS.buildbin-libdir && D:\biocbuild\bbs-3.15-bioc\R\bin\R.exe CMD INSTALL --build --library=InPAS.buildbin-libdir InPAS_2.3.1.tar.gz
###
##############################################################################
##############################################################################


* installing *source* package 'InPAS' ...
** using staged installation
** R
** data
*** moving datasets to lazyload DB
** inst
** byte-compile and prepare package for lazy loading
** help
*** installing help indices
  converting help for package 'InPAS'
    finding HTML links ... done
    InPAS                                   html  
    UTR3eSet-class                          html  
    finding level-2 HTML links ... done

    adjust_distalCPs                        html  
    adjust_proximalCPs                      html  
    adjust_proximalCPsByNBC                 html  
    adjust_proximalCPsByPWM                 html  
    assemble_allCov                         html  
    assign_feature                          html  
    compensation                            html  
    extract_UTR3Anno                        html  
    fft.smooth                              html  
    filter_testOut                          html  
    find_segmentationSites                  html  
    find_valley                             html  
    fix_dbLockError                         html  
    gcComp                                  html  
    gcContents                              html  
    get_PAscore                             html  
    get_PAscore2                            html  
    get_UTR3CDS                             html  
    get_UTR3TotalCov                        html  
    get_UTR3eSet                            html  
    get_UTR3region                          html  
    get_depthWeight                         html  
    get_regionCov                           html  
    get_seqLen                              html  
    get_ssRleCov                            html  
    get_totalCov                            html  
    get_usage4plot                          html  
    get_zScoreCutoff                        html  
    mapComp                                 html  
    parse_TxDb                              html  
    plot_utr3Usage                          html  
    polish_CPs                              html  
    remove_convergentUTR3s                  html  
    run_coverageQC                          html  
    run_fisherExactTest                     html  
    run_limmaAnalysis                       html  
    run_singleGroupAnalysis                 html  
    run_singleSampleAnalysis                html  
    search_CPs                              html  
    search_distalCPs                        html  
    search_proximalCPs                      html  
    setup_CPsSearch                         html  
    setup_GSEA                              html  
    setup_sqlitedb                          html  
    test_dPDUI                              html  
    trim_seqnames                           html  
    utr3.mm10                               html  
** building package indices
** installing vignettes
** testing if installed package can be loaded from temporary location
** testing if installed package can be loaded from final location
** testing if installed package keeps a record of temporary installation path
* MD5 sums
packaged installation of 'InPAS' as InPAS_2.3.1.zip
* DONE (InPAS)