Back to Multiple platform build/check report for BioC 3.18:   simplified   long
ABCDEFGH[I]JKLMNOPQRSTUVWXYZ

This page was generated on 2023-09-25 11:36:26 -0400 (Mon, 25 Sep 2023).

HostnameOSArch (*)R versionInstalled pkgs
nebbiolo2Linux (Ubuntu 22.04.2 LTS)x86_644.3.1 (2023-06-16) -- "Beagle Scouts" 4659
palomino4Windows Server 2022 Datacenterx644.3.1 (2023-06-16 ucrt) -- "Beagle Scouts" 4394
lconwaymacOS 12.6.5 Montereyx86_644.3.1 Patched (2023-06-17 r84564) -- "Beagle Scouts" 4408
kunpeng2Linux (openEuler 22.03 LTS-SP1)aarch644.3.1 (2023-06-16) -- "Beagle Scouts" 4397
Click on any hostname to see more info about the system (e.g. compilers)      (*) as reported by 'uname -p', except on Windows and Mac OS X

Package 1000/2233HostnameOS / ArchINSTALLBUILDCHECKBUILD BIN
ImmuneSpaceR 1.29.0  (landing page)
ImmuneSpace Package Maintainer
Snapshot Date: 2023-09-24 14:05:06 -0400 (Sun, 24 Sep 2023)
git_url: https://git.bioconductor.org/packages/ImmuneSpaceR
git_branch: devel
git_last_commit: c5da00b
git_last_commit_date: 2023-04-25 10:46:58 -0400 (Tue, 25 Apr 2023)
nebbiolo2Linux (Ubuntu 22.04.2 LTS) / x86_64  OK    OK    OK  UNNEEDED, same version is already published
palomino4Windows Server 2022 Datacenter / x64  OK    OK    OK    OK  UNNEEDED, same version is already published
lconwaymacOS 12.6.5 Monterey / x86_64  OK    OK    OK    OK  UNNEEDED, same version is already published
kunpeng2Linux (openEuler 22.03 LTS-SP1) / aarch64  OK    OK    OK  

BUILD results for ImmuneSpaceR on nebbiolo2


To the developers/maintainers of the ImmuneSpaceR package:
- Allow up to 24 hours (and sometimes 48 hours) for your latest push to git@git.bioconductor.org:packages/ImmuneSpaceR.git to reflect on this report. See Troubleshooting Build Report for more information.
- Use the following Renviron settings to reproduce errors and warnings.
- If 'R CMD check' started to fail recently on the Linux builder(s) over a missing dependency, add the missing dependency to 'Suggests:' in your DESCRIPTION file. See Renviron.bioc for more information.

raw results


Summary

Package: ImmuneSpaceR
Version: 1.29.0
Command: /home/biocbuild/bbs-3.18-bioc/R/bin/R CMD build --keep-empty-dirs --no-resave-data ImmuneSpaceR
StartedAt: 2023-09-24 17:16:35 -0400 (Sun, 24 Sep 2023)
EndedAt: 2023-09-24 17:19:21 -0400 (Sun, 24 Sep 2023)
EllapsedTime: 166.0 seconds
RetCode: 0
Status:   OK  
PackageFile: ImmuneSpaceR_1.29.0.tar.gz
PackageFileSize: 1.407 MiB

Command output

##############################################################################
##############################################################################
###
### Running command:
###
###   /home/biocbuild/bbs-3.18-bioc/R/bin/R CMD build --keep-empty-dirs --no-resave-data ImmuneSpaceR
###
##############################################################################
##############################################################################


* checking for file ‘ImmuneSpaceR/DESCRIPTION’ ... OK
* preparing ‘ImmuneSpaceR’:
* checking DESCRIPTION meta-information ... OK
* installing the package to build vignettes
* creating vignettes ... OK
* checking for LF line-endings in source and make files and shell scripts
* checking for empty or unneeded directories
  NB: this package now depends on R (>= 3.5.0)
  WARNING: Added dependency on R >= 3.5.0 because serialized objects in
  serialize/load version 3 cannot be read in older versions of R.
  File(s) containing such objects:
    ‘ImmuneSpaceR/tests/testthat/datasets/SDY180_fcs_control_files.rds’
    ‘ImmuneSpaceR/tests/testthat/datasets/SDY180_fcs_sample_files.rds’
    ‘ImmuneSpaceR/tests/testthat/datasets/SDY180_mbaa.rds’
    ‘ImmuneSpaceR/tests/testthat/datasets/SDY180_neut_ab_titer.rds’
    ‘ImmuneSpaceR/tests/testthat/datasets/SDY269_elisa.rds’
    ‘ImmuneSpaceR/tests/testthat/datasets/SDY269_elispot.rds’
    ‘ImmuneSpaceR/tests/testthat/datasets/SDY269_hai.rds’
* building ‘ImmuneSpaceR_1.29.0.tar.gz’