Name | Last modified | Size | Description | |
---|---|---|---|---|
Parent Directory | - | |||
buildbin-out.txt | 17-Jul-2024 00:40 | 16M | ||
buildbin-summary.dcf | 17-Jul-2024 00:40 | 546 | ||
buildsrc-out.txt | 17-Jul-2024 00:40 | 1.0K | ||
buildsrc-summary.dcf | 17-Jul-2024 00:40 | 476 | ||
checksrc-out.txt | 17-Jul-2024 00:40 | 5.5K | ||
checksrc-summary.dcf | 17-Jul-2024 00:40 | 475 | ||
install-out.txt | 17-Jul-2024 00:40 | 16M | ||
install-summary.dcf | 17-Jul-2024 00:40 | 283 | ||