Name | Last modified | Size | Description | |
---|---|---|---|---|
Parent Directory | - | |||
buildbin-out.txt | 12-Jun-2024 04:41 | 62K | ||
buildbin-summary.dcf | 12-Jun-2024 04:41 | 556 | ||
buildsrc-out.txt | 12-Jun-2024 04:41 | 925 | ||
buildsrc-summary.dcf | 12-Jun-2024 04:41 | 441 | ||
checksrc-out.txt | 12-Jun-2024 04:41 | 5.3K | ||
checksrc-summary.dcf | 12-Jun-2024 04:41 | 461 | ||
install-out.txt | 12-Jun-2024 04:41 | 60K | ||
install-summary.dcf | 12-Jun-2024 04:41 | 279 | ||