Name | Last modified | Size | Description | |
---|---|---|---|---|
Parent Directory | - | |||
buildbin-out.txt | 28-Jul-2024 00:41 | 63K | ||
buildbin-summary.dcf | 28-Jul-2024 00:41 | 555 | ||
buildsrc-out.txt | 28-Jul-2024 00:41 | 925 | ||
buildsrc-summary.dcf | 28-Jul-2024 00:41 | 440 | ||
checksrc-out.txt | 28-Jul-2024 00:41 | 5.3K | ||
checksrc-summary.dcf | 28-Jul-2024 00:41 | 460 | ||
install-out.txt | 28-Jul-2024 00:41 | 60K | ||
install-summary.dcf | 28-Jul-2024 00:41 | 278 | ||