Name | Last modified | Size | Description | |
---|---|---|---|---|
Parent Directory | - | |||
buildbin-out.txt | 28-Jul-2024 00:42 | 89K | ||
buildbin-summary.dcf | 28-Jul-2024 00:42 | 555 | ||
buildsrc-out.txt | 28-Jul-2024 00:42 | 925 | ||
buildsrc-summary.dcf | 28-Jul-2024 00:42 | 440 | ||
checksrc-out.txt | 28-Jul-2024 00:42 | 5.3K | ||
checksrc-summary.dcf | 28-Jul-2024 00:42 | 460 | ||
install-out.txt | 28-Jul-2024 00:42 | 87K | ||
install-summary.dcf | 28-Jul-2024 00:42 | 278 | ||