Name | Last modified | Size | Description | |
---|---|---|---|---|
Parent Directory | - | |||
buildbin-out.txt | 12-Jun-2024 04:43 | 89K | ||
buildbin-summary.dcf | 12-Jun-2024 04:43 | 555 | ||
buildsrc-out.txt | 12-Jun-2024 04:43 | 925 | ||
buildsrc-summary.dcf | 12-Jun-2024 04:43 | 440 | ||
checksrc-out.txt | 12-Jun-2024 04:43 | 5.3K | ||
checksrc-summary.dcf | 12-Jun-2024 04:43 | 460 | ||
install-out.txt | 12-Jun-2024 04:43 | 87K | ||
install-summary.dcf | 12-Jun-2024 04:43 | 278 | ||