Index of /checkResults/devel/bioc-LATEST/IVAS/raw-results/palomino4

[ICO]NameLast modifiedSizeDescription

[DIR]Parent Directory  -  
[TXT]buildbin-out.txt02-Jul-2022 00:06 1.2K 
[   ]buildbin-summary.dcf02-Jul-2022 00:06 515  
[TXT]buildsrc-out.txt02-Jul-2022 00:06 884  
[   ]buildsrc-summary.dcf02-Jul-2022 00:06 440  
[TXT]checksrc-out.txt02-Jul-2022 00:06 3.7K 
[   ]checksrc-summary.dcf02-Jul-2022 00:06 444  
[TXT]install-out.txt02-Jul-2022 00:06 1.8K 
[   ]install-summary.dcf02-Jul-2022 00:06 601