Name | Last modified | Size | Description | |
---|---|---|---|---|
Parent Directory | - | |||
install-out.txt | 27-Jul-2024 00:41 | 1.0K | ||
install-summary.dcf | 27-Jul-2024 00:41 | 263 | ||
buildsrc-out.txt | 27-Jul-2024 00:41 | 867 | ||
buildsrc-summary.dcf | 27-Jul-2024 00:41 | 418 | ||
checksrc-out.txt | 27-Jul-2024 00:41 | 3.9K | ||
checksrc-summary.dcf | 27-Jul-2024 00:41 | 438 | ||
buildbin-out.txt | 27-Jul-2024 00:41 | 1.2K | ||
buildbin-summary.dcf | 27-Jul-2024 00:41 | 512 | ||