Index of /checkResults/devel/bioc-LATEST/IVAS/raw-results/lconway

[ICO]NameLast modifiedSizeDescription

[DIR]Parent Directory  -  
[TXT]buildbin-out.txt02-Jul-2022 00:07 1.2K 
[   ]buildbin-summary.dcf02-Jul-2022 00:07 512  
[TXT]buildsrc-out.txt02-Jul-2022 00:07 867  
[   ]buildsrc-summary.dcf02-Jul-2022 00:07 418  
[TXT]checksrc-out.txt02-Jul-2022 00:07 3.7K 
[   ]checksrc-summary.dcf02-Jul-2022 00:07 438  
[TXT]install-out.txt02-Jul-2022 00:07 1.0K 
[   ]install-summary.dcf02-Jul-2022 00:07 263