Index of /checkResults/devel/bioc-LATEST/IVAS/raw-results
Name
Last modified
Size
Description
Parent Directory
-
lconway/
18-Aug-2022 00:08
-
info.dcf
18-Aug-2022 00:08
257
palomino4/
18-Aug-2022 00:06
-
nebbiolo2/
18-Aug-2022 00:05
-
kjohnson/
12-Jul-2022 00:06
-