Index of /checkResults/devel/bioc-LATEST/IRISFGM/raw-results/lconway
Name
Last modified
Size
Description
Parent Directory
-
install-summary.dcf
02-May-2024 00:36
270
install-out.txt
02-May-2024 00:36
6.4K
buildsrc-summary.dcf
02-May-2024 00:36
344
buildsrc-out.txt
02-May-2024 00:36
1.7K