Index of /checkResults/devel/bioc-LATEST/IRISFGM/raw-results/lconway
Name
Last modified
Size
Description
Parent Directory
-
buildsrc-out.txt
29-Mar-2024 00:39
1.7K
buildsrc-summary.dcf
29-Mar-2024 00:39
344
install-out.txt
29-Mar-2024 00:39
6.6K
install-summary.dcf
29-Mar-2024 00:39
270