Back to Multiple platform build/check report for BioC 3.15
ABCDEFGH[I]JKLMNOPQRSTUVWXYZ

This page was generated on 2022-01-22 11:10:32 -0500 (Sat, 22 Jan 2022).

HostnameOSArch (*)R versionInstalled pkgs
nebbiolo1Linux (Ubuntu 20.04.4 LTS)x86_64R Under development (unstable) (2022-01-05 r81451) -- "Unsuffered Consequences" 4163
riesling1Windows Server 2019 Standardx64R Under development (unstable) (2021-11-21 r81221) -- "Unsuffered Consequences" 4058
palomino3Windows Server 2022 Datacenterx64R Under development (unstable) (2021-12-21 r81400 ucrt) -- "Unsuffered Consequences" 4000
merida1macOS 10.14.6 Mojavex86_64R Under development (unstable) (2022-01-05 r81451) -- "Unsuffered Consequences" 4117
Click on any hostname to see more info about the system (e.g. compilers)      (*) as reported by 'uname -p', except on Windows and Mac OS X

BUILD BIN results for IRISFGM on merida1


To the developers/maintainers of the IRISFGM package:
- Please allow up to 24 hours (and sometimes 48 hours) for your latest push to git@git.bioconductor.org:packages/IRISFGM.git to
reflect on this report. See How and When does the builder pull? When will my changes propagate? here for more information.
- Make sure to use the following settings in order to reproduce any error or warning you see on this page.

raw results

Package 953/2075HostnameOS / ArchINSTALLBUILDCHECKBUILD BIN
IRISFGM 1.3.0  (landing page)
Yuzhou Chang
Snapshot Date: 2022-01-21 13:55:18 -0500 (Fri, 21 Jan 2022)
git_url: https://git.bioconductor.org/packages/IRISFGM
git_branch: master
git_last_commit: 801cde9
git_last_commit_date: 2021-10-26 13:07:08 -0500 (Tue, 26 Oct 2021)
nebbiolo1Linux (Ubuntu 20.04.4 LTS) / x86_64  OK    OK    OK  UNNEEDED, same version is already published
riesling1Windows Server 2019 Standard / x64  OK    OK    NA    NA  
palomino3Windows Server 2022 Datacenter / x64  OK    OK    OK    OK  NO, package depends on 'AnnotationDbi' which is not available
merida1macOS 10.14.6 Mojave / x86_64  OK    OK    OK    OK  NO, package depends on 'clusterProfiler' which is not available

Summary

Package: IRISFGM
Version: 1.3.0
Command: rm -rf IRISFGM.buildbin-libdir && mkdir IRISFGM.buildbin-libdir && /Users/biocbuild/BBS/utils/build-universal.sh IRISFGM_1.3.0.tar.gz /Library/Frameworks/R.framework/Resources/bin/R IRISFGM.buildbin-libdir
StartedAt: 2022-01-22 08:00:52 -0500 (Sat, 22 Jan 2022)
EndedAt: 2022-01-22 08:03:47 -0500 (Sat, 22 Jan 2022)
EllapsedTime: 175.6 seconds
RetCode: 0
Status:   OK  
PackageFile: IRISFGM_1.3.0.tgz
PackageFileSize: 2.462 MiB

Command output

##############################################################################
##############################################################################
###
### Running command:
###
###   rm -rf IRISFGM.buildbin-libdir && mkdir IRISFGM.buildbin-libdir && /Users/biocbuild/BBS/utils/build-universal.sh IRISFGM_1.3.0.tar.gz /Library/Frameworks/R.framework/Resources/bin/R IRISFGM.buildbin-libdir
###
##############################################################################
##############################################################################


>>>>>>> 
>>>>>>> INSTALLATION WITH 'R CMD INSTALL --preclean --no-multiarch --library=IRISFGM.buildbin-libdir IRISFGM_1.3.0.tar.gz'
>>>>>>> 

* installing *source* package ‘IRISFGM’ ...
** using staged installation
** libs
clang++ -mmacosx-version-min=10.13 -std=gnu++11 -I"/Library/Frameworks/R.framework/Resources/include" -DNDEBUG  -I'/Library/Frameworks/R.framework/Versions/4.2/Resources/library/Rcpp/include' -I/usr/local/include   -DVER=2.08 -fPIC  -Wall -g -O2  -c RcppExports.cpp -o RcppExports.o
clang++ -mmacosx-version-min=10.13 -std=gnu++11 -I"/Library/Frameworks/R.framework/Resources/include" -DNDEBUG  -I'/Library/Frameworks/R.framework/Versions/4.2/Resources/library/Rcpp/include' -I/usr/local/include   -DVER=2.08 -fPIC  -Wall -g -O2  -c cluster.cpp -o cluster.o
clang++ -mmacosx-version-min=10.13 -std=gnu++11 -I"/Library/Frameworks/R.framework/Resources/include" -DNDEBUG  -I'/Library/Frameworks/R.framework/Versions/4.2/Resources/library/Rcpp/include' -I/usr/local/include   -DVER=2.08 -fPIC  -Wall -g -O2  -c expand.cpp -o expand.o
clang++ -mmacosx-version-min=10.13 -std=gnu++11 -I"/Library/Frameworks/R.framework/Resources/include" -DNDEBUG  -I'/Library/Frameworks/R.framework/Versions/4.2/Resources/library/Rcpp/include' -I/usr/local/include   -DVER=2.08 -fPIC  -Wall -g -O2  -c get_options.cpp -o get_options.o
clang -mmacosx-version-min=10.13 -I"/Library/Frameworks/R.framework/Resources/include" -DNDEBUG  -I'/Library/Frameworks/R.framework/Versions/4.2/Resources/library/Rcpp/include' -I/usr/local/include   -fPIC  -Wall -g -O2  -c getline.c -o getline.o
clang++ -mmacosx-version-min=10.13 -std=gnu++11 -I"/Library/Frameworks/R.framework/Resources/include" -DNDEBUG  -I'/Library/Frameworks/R.framework/Versions/4.2/Resources/library/Rcpp/include' -I/usr/local/include   -DVER=2.08 -fPIC  -Wall -g -O2  -c main.cpp -o main.o
clang++ -mmacosx-version-min=10.13 -std=gnu++11 -I"/Library/Frameworks/R.framework/Resources/include" -DNDEBUG  -I'/Library/Frameworks/R.framework/Versions/4.2/Resources/library/Rcpp/include' -I/usr/local/include   -DVER=2.08 -fPIC  -Wall -g -O2  -c make_graph.cpp -o make_graph.o
make_graph.cpp:51:5: warning: variable 'i' is incremented both in the loop header and in the loop body [-Wfor-loop-analysis]
    i++;
    ^
make_graph.cpp:45:29: note: incremented here
  for (int i = 0; i < cols; i++) {
                            ^
1 warning generated.
clang++ -mmacosx-version-min=10.13 -std=gnu++11 -I"/Library/Frameworks/R.framework/Resources/include" -DNDEBUG  -I'/Library/Frameworks/R.framework/Versions/4.2/Resources/library/Rcpp/include' -I/usr/local/include   -DVER=2.08 -fPIC  -Wall -g -O2  -c rcpp_irisfgm.cpp -o rcpp_irisfgm.o
clang++ -mmacosx-version-min=10.13 -std=gnu++11 -I"/Library/Frameworks/R.framework/Resources/include" -DNDEBUG  -I'/Library/Frameworks/R.framework/Versions/4.2/Resources/library/Rcpp/include' -I/usr/local/include   -DVER=2.08 -fPIC  -Wall -g -O2  -c read_array.cpp -o read_array.o
read_array.cpp:882:43: warning: format specifies type 'int' but the argument has type 'std::__1::__vector_base<unsigned long, std::__1::allocator<unsigned long> >::value_type' (aka 'unsigned long') [-Wformat]
        fprintf(F2, "%s_%d", genes_n[id], eflags[id][i]);
                        ~~                ^~~~~~~~~~~~~
                        %lu
read_array.cpp:1376:43: warning: format specifies type 'int' but the argument has type 'std::__1::__vector_base<unsigned long, std::__1::allocator<unsigned long> >::value_type' (aka 'unsigned long') [-Wformat]
        fprintf(F2, "%s_%d", genes_n[id], eflags[id][i]);
                        ~~                ^~~~~~~~~~~~~
                        %lu
2 warnings generated.
clang++ -mmacosx-version-min=10.13 -std=gnu++11 -I"/Library/Frameworks/R.framework/Resources/include" -DNDEBUG  -I'/Library/Frameworks/R.framework/Versions/4.2/Resources/library/Rcpp/include' -I/usr/local/include   -DVER=2.08 -fPIC  -Wall -g -O2  -c struct.cpp -o struct.o
clang++ -mmacosx-version-min=10.13 -std=gnu++11 -I"/Library/Frameworks/R.framework/Resources/include" -DNDEBUG  -I'/Library/Frameworks/R.framework/Versions/4.2/Resources/library/Rcpp/include' -I/usr/local/include   -DVER=2.08 -fPIC  -Wall -g -O2  -c write_block.cpp -o write_block.o
clang++ -mmacosx-version-min=10.13 -std=gnu++11 -dynamiclib -Wl,-headerpad_max_install_names -undefined dynamic_lookup -single_module -multiply_defined suppress -L/Library/Frameworks/R.framework/Resources/lib -L/usr/local/lib -o IRISFGM.so RcppExports.o cluster.o expand.o get_options.o getline.o main.o make_graph.o rcpp_irisfgm.o read_array.o struct.o write_block.o -F/Library/Frameworks/R.framework/.. -framework R -Wl,-framework -Wl,CoreFoundation
installing to /Users/biocbuild/bbs-3.15-bioc/meat/IRISFGM.buildbin-libdir/00LOCK-IRISFGM/00new/IRISFGM/libs
** R
** data
** inst
** byte-compile and prepare package for lazy loading
Creating a generic function from function ‘ReadFrom10X_h5’ in package ‘IRISFGM’
Creating a generic function from function ‘ReadFrom10X_folder’ in package ‘IRISFGM’
** help
*** installing help indices
** building package indices
** installing vignettes
** testing if installed package can be loaded from temporary location
** checking absolute paths in shared objects and dynamic libraries
** testing if installed package can be loaded from final location
** testing if installed package keeps a record of temporary installation path
* DONE (IRISFGM)


>>>>>>> 
>>>>>>> FIXING LINKS FOR IRISFGM.buildbin-libdir/IRISFGM/libs/IRISFGM.so
>>>>>>> 

install_name_tool -change "/usr/local/lib/libgcc_s.1.dylib" "/Library/Frameworks/R.framework/Versions/4.2/Resources/lib/libgcc_s.1.dylib" "IRISFGM.buildbin-libdir/IRISFGM/libs/IRISFGM.so"
install_name_tool -change "/usr/local/lib/libgfortran.5.dylib" "/Library/Frameworks/R.framework/Versions/4.2/Resources/lib/libgfortran.5.dylib" "IRISFGM.buildbin-libdir/IRISFGM/libs/IRISFGM.so"
install_name_tool -change "/usr/local/lib/libquadmath.0.dylib" "/Library/Frameworks/R.framework/Versions/4.2/Resources/lib/libquadmath.0.dylib" "IRISFGM.buildbin-libdir/IRISFGM/libs/IRISFGM.so"