Name | Last modified | Size | Description | |
---|---|---|---|---|
Parent Directory | - | |||
checksrc-out.txt | 28-Jul-2024 00:38 | 3.3K | ||
checksrc-summary.dcf | 28-Jul-2024 00:38 | 402 | ||
buildsrc-summary.dcf | 28-Jul-2024 00:38 | 415 | ||
buildsrc-out.txt | 28-Jul-2024 00:38 | 881 | ||
install-summary.dcf | 28-Jul-2024 00:38 | 253 | ||
install-out.txt | 28-Jul-2024 00:38 | 951 | ||