Index of /checkResults/devel/bioc-LATEST/IMAS/raw-results/merida1

[ICO]NameLast modifiedSizeDescription

[DIR]Parent Directory  -  
[TXT]buildbin-out.txt18-May-2024 00:38 1.1K 
[   ]buildbin-summary.dcf18-May-2024 00:38 512  
[TXT]buildsrc-out.txt18-May-2024 00:38 867  
[   ]buildsrc-summary.dcf18-May-2024 00:38 419  
[TXT]checksrc-out.txt18-May-2024 00:38 3.4K 
[   ]checksrc-summary.dcf18-May-2024 00:38 432  
[TXT]install-out.txt18-May-2024 00:38 1.0K 
[   ]install-summary.dcf18-May-2024 00:38 263