Index of /checkResults/devel/bioc-LATEST/IHW/raw-results/palomino3

[ICO]NameLast modifiedSizeDescription

[DIR]Parent Directory  -  
[TXT]buildbin-out.txt23-Feb-2024 02:48 1.1K 
[   ]buildbin-summary.dcf23-Feb-2024 02:48 491  
[TXT]buildsrc-out.txt23-Feb-2024 02:48 856  
[   ]buildsrc-summary.dcf23-Feb-2024 02:48 437  
[TXT]checksrc-out.txt23-Feb-2024 02:48 4.8K 
[   ]checksrc-summary.dcf23-Feb-2024 02:48 430  
[TXT]install-out.txt23-Feb-2024 02:48 1.0K 
[   ]install-summary.dcf23-Feb-2024 02:48 260