Index of /checkResults/devel/bioc-LATEST/IHW/raw-results/nebbiolo1

[ICO]NameLast modifiedSizeDescription

[DIR]Parent Directory  -  
[TXT]buildsrc-out.txt02-Mar-2024 01:36 830  
[   ]buildsrc-summary.dcf02-Mar-2024 01:36 406  
[TXT]checksrc-out.txt02-Mar-2024 01:36 4.8K 
[   ]checksrc-summary.dcf02-Mar-2024 01:36 398  
[TXT]install-out.txt02-Mar-2024 01:36 1.0K 
[   ]install-summary.dcf02-Mar-2024 01:36 250