Index of /checkResults/devel/bioc-LATEST/HubPub/raw-results
Name
Last modified
Size
Description
Parent Directory
-
merida1/
27-May-2024 00:35
-
nebbiolo2/
27-May-2024 00:34
-
info.dcf
27-May-2024 00:34
272
palomino4/
23-May-2024 00:36
-
kunpeng2/
16-May-2024 02:46
-