Index of /checkResults/devel/bioc-LATEST/HilbertVisGUI/raw-results
Name
Last modified
Size
Description
Parent Directory
-
info.dcf
04-May-2024 00:35
273
nebbiolo2/
04-May-2024 00:36
-