Index of /checkResults/devel/bioc-LATEST/HiContacts/raw-results

[ICO]NameLast modifiedSizeDescription

[DIR]Parent Directory  -  
[   ]info.dcf11-Jun-2023 00:09 276  
[DIR]kunpeng2/11-Jun-2023 00:09 -  
[DIR]lconway/11-Jun-2023 00:08 -  
[DIR]nebbiolo2/11-Jun-2023 00:05 -  
[DIR]palomino4/11-Jun-2023 00:07 -