############################################################################## ############################################################################## ### ### Running command: ### ### C:\cygwin\bin\curl.exe -O http://155.52.207.166/BBS/3.16/bioc/src/contrib/HiCcompare_1.19.0.tar.gz && rm -rf HiCcompare.buildbin-libdir && mkdir HiCcompare.buildbin-libdir && F:\biocbuild\bbs-3.16-bioc\R\bin\R.exe CMD INSTALL --merge-multiarch --build --library=HiCcompare.buildbin-libdir HiCcompare_1.19.0.tar.gz && F:\biocbuild\bbs-3.16-bioc\R\bin\R.exe CMD INSTALL HiCcompare_1.19.0.zip && rm HiCcompare_1.19.0.tar.gz HiCcompare_1.19.0.zip ### ############################################################################## ############################################################################## % Total % Received % Xferd Average Speed Time Time Time Current Dload Upload Total Spent Left Speed 0 0 0 0 0 0 0 0 --:--:-- --:--:-- --:--:-- 0 100 3211k 100 3211k 0 0 4802k 0 --:--:-- --:--:-- --:--:-- 4807k only one architecture so ignoring '--merge-multiarch' * installing *source* package 'HiCcompare' ... ** using staged installation ** R ** data *** moving datasets to lazyload DB ** inst ** byte-compile and prepare package for lazy loading Note: wrong number of arguments to 'ceiling' ** help *** installing help indices ** building package indices ** installing vignettes ** testing if installed package can be loaded from temporary location ** testing if installed package can be loaded from final location ** testing if installed package keeps a record of temporary installation path * MD5 sums packaged installation of 'HiCcompare' as HiCcompare_1.19.0.zip * DONE (HiCcompare) * installing to library 'F:/biocbuild/bbs-3.16-bioc/R/library' package 'HiCcompare' successfully unpacked and MD5 sums checked