Index of /checkResults/devel/bioc-LATEST/HiCcompare/raw-results
Name
Last modified
Size
Description
Parent Directory
-
palomino4/
02-Jul-2022 00:06
-
nebbiolo2/
02-Jul-2022 00:05
-
lconway/
02-Jul-2022 00:07
-
info.dcf
02-Jul-2022 00:07
325