Back to Multiple platform build/check report for BioC 3.15
ABCDEFG[H]IJKLMNOPQRSTUVWXYZ

This page was generated on 2022-01-28 11:07:59 -0500 (Fri, 28 Jan 2022).

HostnameOSArch (*)R versionInstalled pkgs
nebbiolo1Linux (Ubuntu 20.04.4 LTS)x86_64R Under development (unstable) (2022-01-05 r81451) -- "Unsuffered Consequences" 4167
riesling1Windows Server 2019 Standardx64R Under development (unstable) (2021-11-21 r81221) -- "Unsuffered Consequences" 4062
palomino3Windows Server 2022 Datacenterx64R Under development (unstable) (2021-12-21 r81400 ucrt) -- "Unsuffered Consequences" 4004
merida1macOS 10.14.6 Mojavex86_64R Under development (unstable) (2022-01-05 r81451) -- "Unsuffered Consequences" 4121
Click on any hostname to see more info about the system (e.g. compilers)      (*) as reported by 'uname -p', except on Windows and Mac OS X

BUILD results for HiCBricks on riesling1


To the developers/maintainers of the HiCBricks package:
- Please allow up to 24 hours (and sometimes 48 hours) for your latest push to git@git.bioconductor.org:packages/HiCBricks.git to
reflect on this report. See How and When does the builder pull? When will my changes propagate? here for more information.
- Make sure to use the following settings in order to reproduce any error or warning you see on this page.

raw results

Package 865/2077HostnameOS / ArchINSTALLBUILDCHECKBUILD BIN
HiCBricks 1.13.2  (landing page)
Koustav Pal
Snapshot Date: 2022-01-27 13:55:17 -0500 (Thu, 27 Jan 2022)
git_url: https://git.bioconductor.org/packages/HiCBricks
git_branch: master
git_last_commit: 2a085ec
git_last_commit_date: 2022-01-01 07:34:42 -0500 (Sat, 01 Jan 2022)
nebbiolo1Linux (Ubuntu 20.04.4 LTS) / x86_64  OK    OK    OK  UNNEEDED, same version is already published
riesling1Windows Server 2019 Standard / x64  OK    OK    OK    OK  
palomino3Windows Server 2022 Datacenter / x64  OK    OK    OK    OK  NO, package depends on 'GenomeInfoDb' which is not available
merida1macOS 10.14.6 Mojave / x86_64  OK    OK    OK    OK  UNNEEDED, same version is already published

Summary

Package: HiCBricks
Version: 1.13.2
Command: chmod a+r HiCBricks -R && D:\biocbuild\bbs-3.15-bioc\R\bin\R.exe CMD build --keep-empty-dirs --no-resave-data HiCBricks
StartedAt: 2022-01-27 17:03:29 -0500 (Thu, 27 Jan 2022)
EndedAt: 2022-01-27 17:05:18 -0500 (Thu, 27 Jan 2022)
EllapsedTime: 109.0 seconds
RetCode: 0
Status:   OK  
PackageFile: HiCBricks_1.13.2.tar.gz
PackageFileSize: 4.375 MiB

Command output

##############################################################################
##############################################################################
###
### Running command:
###
###   chmod a+r HiCBricks -R && D:\biocbuild\bbs-3.15-bioc\R\bin\R.exe CMD build --keep-empty-dirs --no-resave-data HiCBricks
###
##############################################################################
##############################################################################


* checking for file 'HiCBricks/DESCRIPTION' ... OK
* preparing 'HiCBricks':
* checking DESCRIPTION meta-information ... OK
* installing the package to build vignettes
* creating vignettes ... OK
* checking for LF line-endings in source and make files and shell scripts
* checking for empty or unneeded directories
* building 'HiCBricks_1.13.2.tar.gz'