Name | Last modified | Size | Description | |
---|---|---|---|---|
Parent Directory | - | |||
buildbin-summary.dcf | 12-Jun-2024 04:40 | 524 | ||
buildbin-out.txt | 12-Jun-2024 04:40 | 1.1K | ||
checksrc-out.txt | 12-Jun-2024 04:40 | 3.2K | ||
checksrc-summary.dcf | 12-Jun-2024 04:40 | 453 | ||
buildsrc-summary.dcf | 12-Jun-2024 04:40 | 458 | ||
buildsrc-out.txt | 12-Jun-2024 04:40 | 848 | ||
install-out.txt | 12-Jun-2024 04:40 | 959 | ||
install-summary.dcf | 12-Jun-2024 04:40 | 270 | ||