Name | Last modified | Size | Description | |
---|---|---|---|---|
Parent Directory | - | |||
install-summary.dcf | 12-Jun-2024 04:41 | 261 | ||
buildsrc-summary.dcf | 12-Jun-2024 04:41 | 415 | ||
checksrc-summary.dcf | 12-Jun-2024 04:41 | 427 | ||
buildbin-summary.dcf | 12-Jun-2024 04:41 | 506 | ||
buildsrc-out.txt | 12-Jun-2024 04:41 | 893 | ||
install-out.txt | 12-Jun-2024 04:41 | 1.9K | ||
buildbin-out.txt | 12-Jun-2024 04:41 | 3.7K | ||
checksrc-out.txt | 12-Jun-2024 04:41 | 4.1K | ||