Name | Last modified | Size | Description | |
---|---|---|---|---|
Parent Directory | - | |||
install-summary.dcf | 12-Jun-2024 04:43 | 260 | ||
install-out.txt | 12-Jun-2024 04:43 | 2.5K | ||
checksrc-summary.dcf | 12-Jun-2024 04:43 | 433 | ||
checksrc-out.txt | 12-Jun-2024 04:43 | 4.4K | ||
buildsrc-summary.dcf | 12-Jun-2024 04:43 | 415 | ||
buildsrc-out.txt | 12-Jun-2024 04:43 | 893 | ||
buildbin-summary.dcf | 12-Jun-2024 04:43 | 503 | ||
buildbin-out.txt | 12-Jun-2024 04:43 | 4.3K | ||