Back to Multiple platform build/check report for BioC 3.13
ABCDEFG[H]IJKLMNOPQRSTUVWXYZ

Multiple platform build/check report for BioC 3.13

All results for package HCABrowser

This page was generated on 2021-04-12 12:56:37 -0400 (Mon, 12 Apr 2021).

Package 815/1981HostnameOS / ArchINSTALLBUILDCHECKBUILD BIN
HCABrowser 1.7.4  (landing page)
Bioconductor Package Maintainer
Snapshot Date: 2021-04-11 14:50:10 -0400 (Sun, 11 Apr 2021)
URL: https://git.bioconductor.org/packages/HCABrowser
Branch: master
Last Commit: 6381657
Last Changed Date: 2021-02-09 16:03:47 -0400 (Tue, 09 Feb 2021)
nebbiolo1Linux (Ubuntu 20.04.2 LTS) / x86_64  OK    ERROR  skipped
riesling1Windows Server 2019 Standard / x64  OK    ERROR  skippedskipped
machv2macOS 10.14.6 Mojave / x86_64  OK    ERROR  skippedskipped