Back to Multiple platform build/check report for BioC 3.15
ABCDEF[G]HIJKLMNOPQRSTUVWXYZ

This page was generated on 2022-01-18 11:07:27 -0500 (Tue, 18 Jan 2022).

HostnameOSArch (*)R versionInstalled pkgs
nebbiolo1Linux (Ubuntu 20.04.4 LTS)x86_64R Under development (unstable) (2022-01-05 r81451) -- "Unsuffered Consequences" 4161
riesling1Windows Server 2019 Standardx64R Under development (unstable) (2021-11-21 r81221) -- "Unsuffered Consequences" 4056
palomino3Windows Server 2022 Datacenterx64R Under development (unstable) (2021-12-21 r81400 ucrt) -- "Unsuffered Consequences" 3998
merida1macOS 10.14.6 Mojavex86_64R Under development (unstable) (2022-01-05 r81451) -- "Unsuffered Consequences" 4115
Click on any hostname to see more info about the system (e.g. compilers)      (*) as reported by 'uname -p', except on Windows and Mac OS X

BUILD BIN results for Gviz on riesling1


To the developers/maintainers of the Gviz package:
- Please allow up to 24 hours (and sometimes 48 hours) for your latest push to git@git.bioconductor.org:packages/Gviz.git to
reflect on this report. See How and When does the builder pull? When will my changes propagate? here for more information.
- Make sure to use the following settings in order to reproduce any error or warning you see on this page.

raw results

Package 841/2074HostnameOS / ArchINSTALLBUILDCHECKBUILD BIN
Gviz 1.39.2  (landing page)
Robert Ivanek
Snapshot Date: 2022-01-17 13:55:17 -0500 (Mon, 17 Jan 2022)
git_url: https://git.bioconductor.org/packages/Gviz
git_branch: master
git_last_commit: a878a9a
git_last_commit_date: 2022-01-05 05:23:28 -0500 (Wed, 05 Jan 2022)
nebbiolo1Linux (Ubuntu 20.04.4 LTS) / x86_64  OK    OK    OK  UNNEEDED, same version is already published
riesling1Windows Server 2019 Standard / x64  OK    OK    OK    OK  
palomino3Windows Server 2022 Datacenter / x64  OK    OK    OK    OK  NO, package depends on 'S4Vectors' which is not available
merida1macOS 10.14.6 Mojave / x86_64  OK    OK    OK    OK  UNNEEDED, same version is already published

Summary

Package: Gviz
Version: 1.39.2
Command: rm -rf Gviz.buildbin-libdir && mkdir Gviz.buildbin-libdir && D:\biocbuild\bbs-3.15-bioc\R\bin\R.exe CMD INSTALL --build --library=Gviz.buildbin-libdir Gviz_1.39.2.tar.gz
StartedAt: 2022-01-17 21:01:59 -0500 (Mon, 17 Jan 2022)
EndedAt: 2022-01-17 21:03:02 -0500 (Mon, 17 Jan 2022)
EllapsedTime: 63.4 seconds
RetCode: 0
Status:   OK  
PackageFile: Gviz_1.39.2.zip
PackageFileSize: 6.544 MiB

Command output

##############################################################################
##############################################################################
###
### Running command:
###
###   rm -rf Gviz.buildbin-libdir && mkdir Gviz.buildbin-libdir && D:\biocbuild\bbs-3.15-bioc\R\bin\R.exe CMD INSTALL --build --library=Gviz.buildbin-libdir Gviz_1.39.2.tar.gz
###
##############################################################################
##############################################################################


* installing *source* package 'Gviz' ...
** using staged installation
** R
** data
** inst
** byte-compile and prepare package for lazy loading
** help
*** installing help indices
  converting help for package 'Gviz'
    finding HTML links ... done
    AlignmentsTrack-class                   html  
    finding level-2 HTML links ... done

    AnnotationTrack-class                   html  
    BiomartGeneRegionTrack-class            html  
    CustomTrack-class                       html  
    DataTrack-class                         html  
    DisplayPars-class                       html  
REDIRECT:topic	 Previous alias or file overwritten by alias: D:/biocbuild/bbs-3.15-bioc/meat/Gviz.buildbin-libdir/00LOCK-Gviz/00new/Gviz/help/displayPars.html
    GdObject-class                          html  
    GeneRegionTrack-class                   html  
    GenomeAxisTrack-class                   html  
    Gviz-defunct                            html  
    Gviz-deprecated                         html  
    HighlightTrack-class                    html  
    IdeogramTrack-class                     html  
    ImageMap-class                          html  
    NumericTrack-class                      html  
    OverlayTrack-class                      html  
    RangeTrack-class                        html  
    ReferenceTrack-class                    html  
    SequenceTrack-class                     html  
    StackedTrack-class                      html  
    UcscTrack                               html  
    collapsing                              html  
    datasets                                html  
    exportTracks                            html  
    grouping                                html  
    plotTracks                              html  
    settings                                html  
** building package indices
** installing vignettes
** testing if installed package can be loaded from temporary location
** testing if installed package can be loaded from final location
** testing if installed package keeps a record of temporary installation path
* MD5 sums
packaged installation of 'Gviz' as Gviz_1.39.2.zip
* DONE (Gviz)